Workbook

Sheet Matrix ops
A1: A(2,3) | C1: v | E1: v1(3,1) | H1: A+B | L1: B+A | P1: B+D | S1: A B | U1: ¹ | V1: B A | Z1: A C | AD1: C A
A2: 2 | B2: 4 | C2: 3 | E2: 10 | H2: {=(A2:C3)+(A6:B8)} -> 7 | I2: 12 | J2: #N/A | L2: {=A6:B8+A2:C3} -> 7 | M2: 12 | N2: #N/A | P2: {=A6:B8+E9:F11} -> 15 | Q2: 28 | S2: {=MMULT(A2:C3,A6:B8)} -> 83 | T2: 88 | V2: {=MMULT(A6:B8,A2:C3)} -> 18 | W2: 76 | X2: 63 | Z2: {=MMULT(A2:C3,A11:C13)} -> 39 | AA2: 48 | AB2: 57 | AD2: {=MMULT(A11:C13,A2:C3)} -> #VALUE!
A3: 1 | B3: 7 | C3: 6 | E3: 20 | H3: 11 | I3: 16 | J3: #N/A | L3: 11 | M3: 16 | N3: #N/A | P3: 40 | Q3: 49 | S3: 141 | T3: 143 | V3: 29 | W3: 103 | X3: 84 | Z3: 71 | AA3: 85 | AB3: 99 | AD3: =_xlfn.FORMULATEXT(AD2) -> =MMULT(A11:C13,A2:C3)
E4: 30 | H4: #N/A | I4: #N/A | J4: #N/A | L4: #N/A | M4: #N/A | N4: #N/A | P4: 61 | Q4: 72 | S4: =_xlfn.FORMULATEXT(S2) -> =MMULT(A2:C3,A6:B8) | V4: 34 | W4: 128 | X4: 105 | Z4: =_xlfn.FORMULATEXT(Z2) -> =MMULT(A2:C3,A11:C13)
A5: B(3,2) | D5: v2(1,3) | H5: =_xlfn.FORMULATEXT(H2) -> =(A2:C3)+(A6:B8) | L5: =_xlfn.FORMULATEXT(L2) -> =A6:B8+A2:C3 | P5: =_xlfn.FORMULATEXT(P2) -> =A6:B8+E9:F11 | V5: =_xlfn.FORMULATEXT(V2) -> =MMULT(A6:B8,A2:C3)
A6: 5 | B6: 8 | D6: 10 | E6: 20 | F6: 30 | Z6: B C | AD6: C A
A7: 10 | B7: 9 | H7: A+v1 | L7: v1+A | S7: A v1 | V7: v1 A | Z7: {=MMULT(A6:B8,A11:C13)} -> #VALUE! | AD7: {=MMULT(A11:C13,A6:B8)} -> 58 | AE7: 62
A8: 11 | B8: 12 | E8: D(3,2) | H8: {=A2:C3+E2:E4} -> 12 | I8: 14 | J8: 13 | L8: {=E2:E4+A2:C3} -> 12 | M8: 14 | N8: 13 | S8: {=MMULT(A2:C3,E2:E4)} -> 190 | V8: {=MMULT(E2:E4,A2:C3)} -> #VALUE! | Z8: =_xlfn.FORMULATEXT(Z7) -> =MMULT(A6:B8,A11:C13) | AD8: 136 | AE8: 149
E9: 10 | F9: 20 | H9: 21 | I9: 27 | J9: 26 | L9: 21 | M9: 27 | N9: 26 | S9: 330 | V9: =_xlfn.FORMULATEXT(V8) -> =MMULT(E2:E4,A2:C3) | AD9: 214 | AE9: 236
A10: C(3,3) | E10: 30 | F10: 40 | H10: #N/A | I10: #N/A | J10: #N/A | L10: #N/A | M10: #N/A | N10: #N/A | S10: =_xlfn.FORMULATEXT(S8) -> =MMULT(A2:C3,E2:E4) | AD10: =_xlfn.FORMULATEXT(AD7) -> =MMULT(A11:C13,A6:B8)
A11: 1 | B11: 2 | C11: 3 | E11: 50 | F11: 60 | H11: =_xlfn.FORMULATEXT(H8) -> =A2:C3+E2:E4 | L11: =_xlfn.FORMULATEXT(L8) -> =E2:E4+A2:C3
A12: 4 | B12: 5 | C12: 6
A13: 7 | B13: 8 | C13: 9 | E13: s(1,1) | H13: v1+v2 | L13: v1 v2 | S13: B v1 | U13: v1 B | X13: C v1 | Z13: v1 C
E14: 100 | H14: {=E2:E4+D6:F6} -> 20 | I14: 30 | J14: 40 | L14: {=MMULT(E2:E4,D6:F6)} -> 100 | M14: 200 | N14: 300 | S14: {=MMULT(A6:B8,E2:E4)} -> #VALUE! | U14: {=MMULT(E2:E4,A6:B8)} -> #VALUE! | X14: {=MMULT(A11:C13,E2:E4)} -> 140 | Z14: {=MMULT(E2:E4,A11:C13)} -> #VALUE!
H15: 30 | I15: 40 | J15: 50 | L15: 200 | M15: 400 | N15: 600 | S15: =_xlfn.FORMULATEXT(S14) -> =MMULT(A6:B8,E2:E4) | U15: =_xlfn.FORMULATEXT(U14) -> =MMULT(E2:E4,A6:B8) | X15: 320 | Z15: =_xlfn.FORMULATEXT(Z14) -> =MMULT(E2:E4,A11:C13)
H16: 40 | I16: 50 | J16: 60 | L16: 300 | M16: 600 | N16: 900 | X16: 500
H17: =_xlfn.FORMULATEXT(H14) -> =E2:E4+D6:F6 | L17: =_xlfn.FORMULATEXT(L14) -> =MMULT(E2:E4,D6:F6) | X17: =_xlfn.FORMULATEXT(X14) -> =MMULT(A11:C13,E2:E4)
B19: A s | S19: A v2 | U19: v2 A | X19: C v2 | Z19: v2 C
B20: {=(A2:C3)*E14} -> 200 | C20: 400 | D20: 300 | H20: v2 v1 | K20: B+v1 | N20: s v1 | S20: {=MMULT(A2:C3,D6:F6)} -> #VALUE! | U20: {=MMULT(D6:F6,A2:C3)} -> #VALUE! | X20: {=MMULT(A11:C13,D6:F6)} -> #VALUE! | Z20: {=MMULT(D6:F6,A11:C13)} -> 300 | AA20: 360 | AB20: 420
B21: 100 | C21: 700 | D21: 600 | H21: {=MMULT(D6:F6,E2:E4)} -> 1400 | K21: {=A6:B8+E2:E4} -> 15 | L21: 18 | N21: {=E14*E2:E4} -> 1000 | S21: =_xlfn.FORMULATEXT(S20) -> =MMULT(A2:C3,D6:F6) | U21: =_xlfn.FORMULATEXT(U20) -> =MMULT(D6:F6,A2:C3) | X21: =_xlfn.FORMULATEXT(X20) -> =MMULT(A11:C13,D6:F6) | Z21: =_xlfn.FORMULATEXT(Z20) -> =MMULT(D6:F6,A11:C13)
B22: =_xlfn.FORMULATEXT(B20) -> =(A2:C3)*E14 | H22: =_xlfn.FORMULATEXT(H21) -> =MMULT(D6:F6,E2:E4) | K22: 30 | L22: 29 | N22: 2000
K23: 41 | L23: 42 | N23: 3000
B24: s A | K24: =_xlfn.FORMULATEXT(K21) -> =A6:B8+E2:E4 | N24: =_xlfn.FORMULATEXT(N21) -> =E14*E2:E4
B25: {=E14*A2:C3} -> 200 | C25: 400 | D25: 300
B26: 100 | C26: 700 | D26: 600 | H26: AT | K26: BT | O26: CT | S26: detA | U26: detB | W26: detC
B27: =_xlfn.FORMULATEXT(B25) -> =E14*A2:C3 | H27: {=TRANSPOSE(A2:C3)} -> 2 | I27: 1 | K27: {=TRANSPOSE(A6:B8)} -> 5 | L27: 10 | M27: 11 | O27: {=TRANSPOSE(A11:C13)} -> 1 | P27: 4 | Q27: 7 | S27: =MDETERM(A2:C3) -> #VALUE! | U27: =MDETERM(A6:B8) -> #VALUE! | W27: =MDETERM(A11:C13) -> 6.6613381e-16
H28: 4 | I28: 7 | K28: 8 | L28: 9 | M28: 12 | O28: 2 | P28: 5 | Q28: 8 | S28: =_xlfn.FORMULATEXT(S27) -> =MDETERM(A2:C3) | U28: =_xlfn.FORMULATEXT(U27) -> =MDETERM(A6:B8) | W28: =_xlfn.FORMULATEXT(W27) -> =MDETERM(A11:C13)
H29: 3 | I29: 6 | K29: =_xlfn.FORMULATEXT(K27) -> =TRANSPOSE(A6:B8) | O29: 3 | P29: 6 | Q29: 9
H30: =_xlfn.FORMULATEXT(H27) -> =TRANSPOSE(A2:C3) | O30: =_xlfn.FORMULATEXT(O27) -> =TRANSPOSE(A11:C13)
H32: A-1 | J32: B-1 | L32: C-1 | P32: A C-1
H33: {=MINVERSE(A2:C3)} -> #VALUE! | J33: {=MINVERSE(A6:B8)} -> #VALUE! | L33: {=MINVERSE(A11:C13)} -> -4.5035996e+15 | M33: 9.0071993e+15 | N33: -4.5035996e+15 | P33: {=MMULT(A2:C3,MINVERSE(A11:C13))} -> 1.3510799e+16 | Q33: -2.7021598e+16 | R33: 1.3510799e+16
H34: =_xlfn.FORMULATEXT(H33) -> =MINVERSE(A2:C3) | J34: =_xlfn.FORMULATEXT(J33) -> =MINVERSE(A6:B8) | L34: 9.0071993e+15 | M34: -1.8014399e+16 | N34: 9.0071993e+15 | P34: 3.1525197e+16 | Q34: -6.3050395e+16 | R34: 3.1525197e+16
L35: -4.5035996e+15 | M35: 9.0071993e+15 | N35: -4.5035996e+15 | P35: =_xlfn.FORMULATEXT(P33) -> =MMULT(A2:C3,MINVERSE(A11:C13))
L36: =_xlfn.FORMULATEXT(L33) -> =MINVERSE(A11:C13)
P38: B C-1 | T38: A B-1
P39: {=MMULT(A6:B8,MINVERSE(A11:C13))} -> #VALUE! | T39: {=MMULT(A2:C3,MINVERSE(A6:B8))} -> #VALUE!
P40: =_xlfn.FORMULATEXT(P39) -> =MMULT(A6:B8,MINVERSE(A11:C13)) | T40: =_xlfn.FORMULATEXT(T39) -> =MMULT(A2:C3,MINVERSE(A6:B8))
H42: A / B | L42: B / A | P42: B / C | T42: C / B
H43: {=A2:C3/A6:B8} -> 0.4 | I43: 0.5 | J43: #N/A | L43: {=A6:B8/A2:C3} -> 2.5 | M43: 2 | N43: #N/A | P43: {=A6:B8/A11:C13} -> 5 | Q43: 4 | R43: #N/A | T43: {=A11:C13/A6:B8} -> 0.2 | U43: 0.25 | V43: #N/A | X43: 4 | Z43: 2 | AB43: {=X43:X45-Z43:Z45} -> 2
H44: 0.1 | I44: 0.77777778 | J44: #N/A | L44: 10 | M44: 1.2857143 | N44: #N/A | P44: 2.5 | Q44: 1.8 | R44: #N/A | T44: 0.4 | U44: 0.55555556 | V44: #N/A | X44: -3 | Y44: - | Z44: 1 | AA44: = | AB44: -4
H45: #N/A | I45: #N/A | J45: #N/A | L45: #N/A | M45: #N/A | N45: #N/A | P45: 1.5714286 | Q45: 1.5 | R45: #N/A | T45: 0.63636364 | U45: 0.66666667 | V45: #N/A | X45: 5 | Z45: -6 | AB45: 11
H46: =_xlfn.FORMULATEXT(H43) -> =A2:C3/A6:B8 | L46: =_xlfn.FORMULATEXT(L43) -> =A6:B8/A2:C3 | P46: =_xlfn.FORMULATEXT(P43) -> =A6:B8/A11:C13 | T46: =_xlfn.FORMULATEXT(T43) -> =A11:C13/A6:B8
X47: 4 | Z47: =Z43*-1 -> -2 | AB47: {=X47:X49+Z47:Z49} -> 2
X48: -3 | Y48: + | Z48: =Z44*-1 -> -1 | AA48: = | AB48: -4
X49: 5 | Z49: =Z45*-1 -> 6 | AB49: 11
Z50: =_xlfn.FORMULATEXT(Z47) -> =Z43*-1
A52: See: https://www.exceltip.com/tips/matrix-properties-and-matrix-calculations-in-excel.html
A54: https://www.andreaminini.net/math/matrices
A56: https://www.mathsisfun.com/algebra/matrix-determinant.html#:~:text=For%20a%203%C3%973matrix%20(3%20r

Sheet Norms
A1: v | C1: Norm | D1: Symbol | E1: Function | J1: Name
A2: 2 | C2: L1 | E2: {=SUM(ABS(A2:A4))} -> 6 | F2: =_xlfn.FORMULATEXT(E2) -> =SUM(ABS(A2:A4)) | J2: Manhattan (Taxicab)
A3: 1 | C3: L2 | E3: =SQRT(SUMSQ(A2:A4)) -> 3.7416574 | F3: =_xlfn.FORMULATEXT(E3) -> =SQRT(SUMSQ(A2:A4)) | J3: Euclidean norm
A4: 3 | C4: Lp | E4: =(A2^3+A3^3+A4^3)^1/3 -> 12 | F4: =_xlfn.FORMULATEXT(E4) -> =(A2^3+A3^3+A4^3)^1/3 | I4: For p=3 | J4: General p norm
C5: L∞ | E5: =MAX(A2:A4) -> 3 | F5: =_xlfn.FORMULATEXT(E5) -> =MAX(A2:A4) | J5: Infinity norm (Uniform norm)
C6: L0 | E6: =COUNTIF(A2:A4,"<>0") -> 3 | F6: =_xlfn.FORMULATEXT(E6) -> =COUNTIF(A2:A4,"<>0") | J6: Zero norm
C7: LW | E7: Not possible to calculate for trivial example | J7: Weighted norm - Mahalanobis distance is an example
C8: LF2 | E8: Not possible to calculate for trivial example | J8: Frobenius norm - Like L2 but requires a matrix

Sheet Centr-Norml-Stdz
B1: A | E1: Norm row | H1: A standardised | O1: A min-max column normalisation | V1: N= | W1: =COUNT(B2:D4) -> 9 | X1: =_xlfn.FORMULATEXT(W1) -> =COUNT(B2:D4) | AA1: N= | AB1: =COUNT(B2:D4) -> 9 | AC1: =_xlfn.FORMULATEXT(AB1) -> =COUNT(B2:D4)
B2: 2 | C2: 3 | D2: 4 | E2: =SQRT(SUMSQ(B2:D2)) -> 5.3851648 | F2: =_xlfn.FORMULATEXT(E2) -> =SQRT(SUMSQ(B2:D2)) | H2: =(B2-AVERAGE(B$2:B$4))/_xlfn.STDEV.S(B$2:B$4) -> 0 | I2: =(C2-AVERAGE(C$2:C$4))/_xlfn.STDEV.S(C$2:C$4) -> 0.13245324 | J2: =(D2-AVERAGE(D$2:D$4))/_xlfn.STDEV.S(D$2:D$4) -> 0 | K2: =_xlfn.FORMULATEXT(H2) -> =(B2-AVERAGE(B$2:B$4))/STDEV.S(B$2:B$4) | O2: =(B2-MIN(B$2:B$4))/(MAX(B$2:B$4)-MIN(B$2:B$4)) -> 0.5 | P2: =(C2-MIN(C$2:C$4))/(MAX(C$2:C$4)-MIN(C$2:C$4)) -> 0.6 | Q2: =(D2-MIN(D$2:D$4))/(MAX(D$2:D$4)-MIN(D$2:D$4)) -> 0.5 | V2: 1/N= | W2: =1/W1 -> 0.11111111 | X2: =_xlfn.FORMULATEXT(W2) -> =1/W1 | AA2: 1/ÖN= | AB2: =1/SQRT(AB1) -> 0.33333333 | AC2: =_xlfn.FORMULATEXT(AB2) -> =1/SQRT(AB1)
B3: 1 | C3: 0 | D3: 2 | E3: =SQRT(SUMSQ(B3:D3)) -> 2.236068 | H3: =(B3-AVERAGE(B$2:B$4))/_xlfn.STDEV.S(B$2:B$4) -> -1 | I3: =(C3-AVERAGE(C$2:C$4))/_xlfn.STDEV.S(C$2:C$4) -> -1.0596259 | J3: =(D3-AVERAGE(D$2:D$4))/_xlfn.STDEV.S(D$2:D$4) -> -1 | O3: =(B3-MIN(B$2:B$4))/(MAX(B$2:B$4)-MIN(B$2:B$4)) -> 0 | P3: =(C3-MIN(C$2:C$4))/(MAX(C$2:C$4)-MIN(C$2:C$4)) -> 0 | Q3: =(D3-MIN(D$2:D$4))/(MAX(D$2:D$4)-MIN(D$2:D$4)) -> 0 | V3: 1/(N-1)= | W3: =1/(W1-1) -> 0.125 | X3: =_xlfn.FORMULATEXT(W3) -> =1/(W1-1) | AA3: 1/Ö(N-1)= | AB3: =1/SQRT(AB1-1) -> 0.35355339 | AC3: =_xlfn.FORMULATEXT(AB3) -> =1/SQRT(AB1-1)
B4: 3 | C4: 5 | D4: 6 | E4: =SQRT(SUMSQ(B4:D4)) -> 8.3666003 | H4: =(B4-AVERAGE(B$2:B$4))/_xlfn.STDEV.S(B$2:B$4) -> 1 | I4: =(C4-AVERAGE(C$2:C$4))/_xlfn.STDEV.S(C$2:C$4) -> 0.92717265 | J4: =(D4-AVERAGE(D$2:D$4))/_xlfn.STDEV.S(D$2:D$4) -> 1 | O4: =(B4-MIN(B$2:B$4))/(MAX(B$2:B$4)-MIN(B$2:B$4)) -> 1 | P4: =(C4-MIN(C$2:C$4))/(MAX(C$2:C$4)-MIN(C$2:C$4)) -> 1 | Q4: =(D4-MIN(D$2:D$4))/(MAX(D$2:D$4)-MIN(D$2:D$4)) -> 1
A5: Norm colmn | B5: =SQRT(SUMSQ(B2:B4)) -> 3.7416574 | C5: =SQRT(SUMSQ(C2:C4)) -> 5.8309519 | D5: =SQRT(SUMSQ(D2:D4)) -> 7.4833148 | H5: =AVERAGE(H2:H4) -> 0 | I5: =AVERAGE(I2:I4) -> 0 | J5: =AVERAGE(J2:J4) -> 0 | K5: =_xlfn.FORMULATEXT(H5) -> =AVERAGE(H2:H4) | O5: =_xlfn.FORMULATEXT(O2) -> =(B2-MIN(B$2:B$4))/(MAX(B$2:B$4)-MIN(B$2:B$4)) | V5: A scaled by 1/N (for population) | AA5: A scaled by 1/ÖN (for population)
B6: =_xlfn.FORMULATEXT(B5) -> =SQRT(SUMSQ(B2:B4)) | H6: =_xlfn.STDEV.S(H2:H4) -> 1 | I6: =_xlfn.STDEV.S(I2:I4) -> 1 | J6: =_xlfn.STDEV.S(J2:J4) -> 1 | K6: =_xlfn.FORMULATEXT(H6) -> =STDEV.S(H2:H4) | V6: =B2*$W$2 -> 0.22222222 | W6: =C2*$W$2 -> 0.33333333 | X6: =D2*$W$2 -> 0.44444444 | AA6: =B2*$AB$2 -> 0.66666667 | AB6: =C2*$AB$2 -> 1 | AC6: =D2*$AB$2 -> 1.3333333
O7: A min-max row normalisation | V7: =B3*$W$2 -> 0.11111111 | W7: =C3*$W$2 -> 0 | X7: =D3*$W$2 -> 0.22222222 | AA7: =B3*$AB$2 -> 0.33333333 | AB7: =C3*$AB$2 -> 0 | AC7: =D3*$AB$2 -> 0.66666667
B8: A Centred by column | H8: A normalised by column | O8: =(B2-MIN($B2:$D2))/(MAX($B2:$D2)-MIN($B2:$D2)) -> 0 | P8: =(C2-MIN($B2:$D2))/(MAX($B2:$D2)-MIN($B2:$D2)) -> 0.5 | Q8: =(D2-MIN($B2:$D2))/(MAX($B2:$D2)-MIN($B2:$D2)) -> 1 | V8: =B4*$W$2 -> 0.33333333 | W8: =C4*$W$2 -> 0.55555556 | X8: =D4*$W$2 -> 0.66666667 | AA8: =B4*$AB$2 -> 1 | AB8: =C4*$AB$2 -> 1.6666667 | AC8: =D4*$AB$2 -> 2
B9: =B2-AVERAGE(B$2:B$4) -> 0 | C9: =C2-AVERAGE(C$2:C$4) -> 0.33333333 | D9: =D2-AVERAGE(D$2:D$4) -> 0 | E9: =_xlfn.FORMULATEXT(B9) -> =B2-AVERAGE(B$2:B$4) | H9: =B2/B$5 -> 0.53452248 | I9: =C2/C$5 -> 0.51449576 | J9: =D2/D$5 -> 0.53452248 | O9: =(B3-MIN($B3:$D3))/(MAX($B3:$D3)-MIN($B3:$D3)) -> 0.5 | P9: =(C3-MIN($B3:$D3))/(MAX($B3:$D3)-MIN($B3:$D3)) -> 0 | Q9: =(D3-MIN($B3:$D3))/(MAX($B3:$D3)-MIN($B3:$D3)) -> 1 | V9: =_xlfn.FORMULATEXT(V6) -> =B2*$W$2 | AA9: =_xlfn.FORMULATEXT(AA6) -> =B2*$AB$2
B10: =B3-AVERAGE(B$2:B$4) -> -1 | C10: =C3-AVERAGE(C$2:C$4) -> -2.6666667 | D10: =D3-AVERAGE(D$2:D$4) -> -2 | H10: =B3/B$5 -> 0.26726124 | I10: =C3/C$5 -> 0 | J10: =D3/D$5 -> 0.26726124 | O10: =(B4-MIN($B4:$D4))/(MAX($B4:$D4)-MIN($B4:$D4)) -> 0 | P10: =(C4-MIN($B4:$D4))/(MAX($B4:$D4)-MIN($B4:$D4)) -> 0.66666667 | Q10: =(D4-MIN($B4:$D4))/(MAX($B4:$D4)-MIN($B4:$D4)) -> 1
B11: =B4-AVERAGE(B$2:B$4) -> 1 | C11: =C4-AVERAGE(C$2:C$4) -> 2.3333333 | D11: =D4-AVERAGE(D$2:D$4) -> 2 | H11: =B4/B$5 -> 0.80178373 | I11: =C4/C$5 -> 0.85749293 | J11: =D4/D$5 -> 0.80178373 | O11: =_xlfn.FORMULATEXT(O8) -> =(B2-MIN($B2:$D2))/(MAX($B2:$D2)-MIN($B2:$D2)) | V11: A scaled by 1/(N-1) (for sample) | AA11: A scaled by 1/Ö(N-1) (for sample)
B12: =AVERAGE(B9:B11) -> 0 | C12: =AVERAGE(C9:C11) -> 0 | D12: =AVERAGE(D9:D11) -> 0 | H12: =_xlfn.FORMULATEXT(H9) -> =B2/B$5 | V12: =B2*$W$3 -> 0.25 | W12: =C2*$W$3 -> 0.375 | X12: =D2*$W$3 -> 0.5 | AA12: =B2*$AB$3 -> 0.70710678 | AB12: =C2*$AB$3 -> 1.0606602 | AC12: =D2*$AB$3 -> 1.4142136
B13: =_xlfn.FORMULATEXT(B12) -> =AVERAGE(B9:B11) | H13: =SQRT(SUMSQ(H9:H11)) -> 1 | I13: =SQRT(SUMSQ(I9:I11)) -> 1 | J13: =SQRT(SUMSQ(J9:J11)) -> 1 | O13: A normalised by Frobenius norm | V13: =B3*$W$3 -> 0.125 | W13: =C3*$W$3 -> 0 | X13: =D3*$W$3 -> 0.25 | AA13: =B3*$AB$3 -> 0.35355339 | AB13: =C3*$AB$3 -> 0 | AC13: =D3*$AB$3 -> 0.70710678
H14: =_xlfn.FORMULATEXT(H13) -> =SQRT(SUMSQ(H9:H11)) | O14: =B2/SQRT(SUMSQ($B$2:$D$4)) -> 0.19611614 | P14: =C2/SQRT(SUMSQ($B$2:$D$4)) -> 0.2941742 | Q14: =D2/SQRT(SUMSQ($B$2:$D$4)) -> 0.39223227 | R14: =_xlfn.FORMULATEXT(O14) -> =B2/SQRT(SUMSQ($B$2:$D$4)) | V14: =B4*$W$3 -> 0.375 | W14: =C4*$W$3 -> 0.625 | X14: =D4*$W$3 -> 0.75 | AA14: =B4*$AB$3 -> 1.0606602 | AB14: =C4*$AB$3 -> 1.767767 | AC14: =D4*$AB$3 -> 2.1213203
B15: A Centred by row | O15: =B3/SQRT(SUMSQ($B$2:$D$4)) -> 0.098058068 | P15: =C3/SQRT(SUMSQ($B$2:$D$4)) -> 0 | Q15: =D3/SQRT(SUMSQ($B$2:$D$4)) -> 0.19611614 | V15: =_xlfn.FORMULATEXT(V12) -> =B2*$W$3 | AA15: =_xlfn.FORMULATEXT(AA12) -> =B2*$AB$3
B16: =B2-AVERAGE($B2:$D2) -> -1 | C16: =C2-AVERAGE($B2:$D2) -> 0 | D16: =D2-AVERAGE($B2:$D2) -> 1 | E16: =AVERAGE(B16:D16) -> 0 | F16: =_xlfn.FORMULATEXT(E16) -> =AVERAGE(B16:D16) | H16: A normalised by row | O16: =B4/SQRT(SUMSQ($B$2:$D$4)) -> 0.2941742 | P16: =C4/SQRT(SUMSQ($B$2:$D$4)) -> 0.49029034 | Q16: =D4/SQRT(SUMSQ($B$2:$D$4)) -> 0.58834841
B17: =B3-AVERAGE($B3:$D3) -> 0 | C17: =C3-AVERAGE($B3:$D3) -> -1 | D17: =D3-AVERAGE($B3:$D3) -> 1 | E17: =AVERAGE(B17:D17) -> 0 | H17: =B2/$E2 -> 0.37139068 | I17: =C2/$E2 -> 0.55708601 | J17: =D2/$E2 -> 0.74278135 | K17: =SQRT(SUMSQ(H17:J17)) -> 1 | L17: =_xlfn.FORMULATEXT(K17) -> =SQRT(SUMSQ(H17:J17)) | R17: =SUMSQ(O14:Q16) -> 1 | S17: =_xlfn.FORMULATEXT(R17) -> =SUMSQ(O14:Q16)
B18: =B4-AVERAGE($B4:$D4) -> -1.6666667 | C18: =C4-AVERAGE($B4:$D4) -> 0.33333333 | D18: =D4-AVERAGE($B4:$D4) -> 1.3333333 | E18: =AVERAGE(B18:D18) -> 0 | H18: =B3/$E3 -> 0.4472136 | I18: =C3/$E3 -> 0 | J18: =D3/$E3 -> 0.89442719 | K18: =SQRT(SUMSQ(H18:J18)) -> 1
B19: =_xlfn.FORMULATEXT(B16) -> =B2-AVERAGE($B2:$D2) | H19: =B4/$E4 -> 0.35856858 | I19: =C4/$E4 -> 0.5976143 | J19: =D4/$E4 -> 0.71713717 | K19: =SQRT(SUMSQ(H19:J19)) -> 1
H20: =_xlfn.FORMULATEXT(H17) -> =B2/$E2

Sheet Covar
A1: X | B1: Movie 1 | C1: Movie 2 | D1: Movie 3 | E1: Movie 4 | F1: m= | G1: 6 | H1: rows | J1: Covariance - Data Analysis add-in | P1: XcT Xc
A2: Person 1 | B2: 5 | C2: 4 | D2: 2 | E2: 1 | F2: n= | G2: 4 | H2: columns | K2: Column 1 | L2: Column 2 | M2: Column 3 | N2: Column 4 | P2: {=MMULT(TRANSPOSE(B12:E17),B12:E17)} -> 12 | Q2: 10 | R2: -8 | S2: -12
A3: Person 2 | B3: 4 | C3: 5 | D3: 2 | E3: 2 | F3: m x n= | G3: =G1*G2 -> 24 | J3: Column 1 | K3: =VARP($B$12:$B$17) -> 2 | L3: =K4 -> 1.67 | M3: =K5 -> -1.33 | N3: =K6 -> -2 | P3: 10 | Q3: 12 | R3: -9 | S3: -10
A4: Person 3 | B4: 1 | C4: 2 | D4: 4 | E4: 5 | F4: N= | G4: 6 | H4: No. of people | J4: Column 2 | K4: 1.67 | L4: =VARP($C$12:$C$17) -> 2 | M4: =L5 -> -1.5 | N4: =L6 -> -1.67 | P4: -8 | Q4: -9 | R4: 7.3333333 | S4: 8
A5: Person 4 | B5: 2 | C5: 1 | D5: 5 | E5: 4 | F5: N-1= | G5: =G4-1 -> 5 | J5: Column 3 | K5: -1.33 | L5: -1.5 | M5: =VARP($D$12:$D$17) -> 1.2222222 | N5: =M6 -> 1.33 | P5: -12 | Q5: -10 | R5: 8 | S5: 12
A6: Person 5 | B6: 4 | C6: 4 | D6: 3 | E6: 2 | F6: 1/(N-1) | G6: =1/G5 -> 0.2 | H6: =_xlfn.FORMULATEXT(G6) -> =1/G5 | J6: Column 4 | K6: -2 | L6: -1.67 | M6: 1.33 | N6: =VARP($E$12:$E$17) -> 2 | P6: =_xlfn.FORMULATEXT(P2) -> =MMULT(TRANSPOSE(B12:E17),B12:E17)
A7: Person 6 | B7: 2 | C7: 2 | D7: 4 | E7: 4
A8: Means | B8: =AVERAGE(B2:B7) -> 3 | C8: =AVERAGE(C2:C7) -> 3 | D8: =AVERAGE(D2:D7) -> 3.3333333 | E8: =AVERAGE(E2:E7) -> 3 | J8: Manual .P | P8: 1/(N-1) XcT Xc | Q8: Covariance matrix
B9: =_xlfn.FORMULATEXT(B8) -> =AVERAGE(B2:B7) | J9: =_xlfn.VAR.P($B$12:$B$17,B12:B17) -> 2 | K9: =_xlfn.FORMULATEXT(J9) -> =VAR.P($B$12:$B$17,B12:B17) | P9: {=G6*P2:S5} -> 2.4 | Q9: 2 | R9: -1.6 | S9: -2.4
J10: =_xlfn.COVARIANCE.P($B$12:$B$17,C12:C17) -> 1.6666667 | K10: =_xlfn.VAR.P($C$12:$C$17,C12:C17) -> 2 | P10: 2 | Q10: 2.4 | R10: -1.8 | S10: -2
A11: Centred Xc | J11: =_xlfn.COVARIANCE.P($B$12:$B$17,D12:D17) -> -1.3333333 | K11: =_xlfn.COVARIANCE.P($C$12:$C$17,D12:D17) -> -1.5 | L11: =_xlfn.VAR.P($D$12:$D$17,D12:D17) -> 1.2222222 | P11: -1.6 | Q11: -1.8 | R11: 1.4666667 | S11: 1.6
B12: =B2-B$8 -> 2 | C12: =C2-C$8 -> 1 | D12: =D2-D$8 -> -1.3333333 | E12: =E2-E$8 -> -2 | F12: =_xlfn.FORMULATEXT(B12) -> =B2-B$8 | J12: =_xlfn.COVARIANCE.P($B$12:$B$17,E12:E17) -> -2 | K12: =_xlfn.COVARIANCE.P($C$12:$C$17,C14:C19) -> -0.68 | L12: =_xlfn.COVARIANCE.P($D$12:$D$17,E12:E17) -> 1.3333333 | M12: =_xlfn.VAR.P(E12:E17,E12:E17) -> 2 | P12: -2.4 | Q12: -2 | R12: 1.6 | S12: 2.4
B13: =B3-B$8 -> 1 | C13: =C3-C$8 -> 2 | D13: =D3-D$8 -> -1.3333333 | E13: =E3-E$8 -> -1 | J13: =_xlfn.FORMULATEXT(J12) -> =COVARIANCE.P($B$12:$B$17,E12:E17) | P13: =_xlfn.FORMULATEXT(P9) -> =G6*P2:S5
B14: =B4-B$8 -> -2 | C14: =C4-C$8 -> -1 | D14: =D4-D$8 -> 0.66666667 | E14: =E4-E$8 -> 2
B15: =B5-B$8 -> -1 | C15: =C5-C$8 -> -2 | D15: =D5-D$8 -> 1.6666667 | E15: =E5-E$8 -> 1 | J15: Manual .S | P15: Covariance matrix (single formula) | U15: Inverse matrix
B16: =B6-B$8 -> 1 | C16: =C6-C$8 -> 1 | D16: =D6-D$8 -> -0.33333333 | E16: =E6-E$8 -> -1 | J16: =_xlfn.COVARIANCE.S($B$12:$B$17,B12:B17) -> 2.4 | K16: =_xlfn.COVARIANCE.S(B$12:B$17,$C$12:$C$17) -> 2 | L16: =_xlfn.COVARIANCE.S(B$12:B$17,$D$12:$D$17) -> -1.6 | M16: =_xlfn.COVARIANCE.S(B$12:B$17,$E$12:$E$17) -> -2.4 | P16: {=G6*(MMULT(TRANSPOSE(B12:E17),B12:E17))} -> 2.4 | Q16: 2 | R16: -1.6 | S16: -2.4 | U16: {=MINVERSE(J23:M26)} -> #NUM!
B17: =B7-B$8 -> -1 | C17: =C7-C$8 -> -1 | D17: =D7-D$8 -> 0.66666667 | E17: =E7-E$8 -> 1 | J17: =_xlfn.COVARIANCE.S($B$12:$B$17,C12:C17) -> 2 | K17: =_xlfn.COVARIANCE.S(C$12:C$17,$C$12:$C$17) -> 2.4 | L17: =_xlfn.COVARIANCE.S(C$12:C$17,$D$12:$D$17) -> -1.8 | M17: =_xlfn.COVARIANCE.S(C$12:C$17,$E$12:$E$17) -> -2 | P17: 2 | Q17: 2.4 | R17: -1.8 | S17: -2
A18: Means | B18: =AVERAGE(B12:B17) -> 0 | C18: =AVERAGE(C12:C17) -> 0 | D18: =AVERAGE(D12:D17) -> -1.4802974e-16 | E18: =AVERAGE(E12:E17) -> 0 | J18: =_xlfn.COVARIANCE.S($B$12:$B$17,D12:D17) -> -1.6 | K18: =_xlfn.COVARIANCE.S(D$12:D$17,$C$12:$C$17) -> -1.8 | L18: =_xlfn.COVARIANCE.S(D$12:D$17,$D$12:$D$17) -> 1.4666667 | M18: =_xlfn.COVARIANCE.S(D$12:D$17,$E$12:$E$17) -> 1.6 | P18: -1.6 | Q18: -1.8 | R18: 1.4666667 | S18: 1.6
B19: =_xlfn.FORMULATEXT(B18) -> =AVERAGE(B12:B17) | J19: =_xlfn.COVARIANCE.S($B$12:$B$17,E12:E17) -> -2.4 | K19: =_xlfn.COVARIANCE.S(E$12:E$17,$C$12:$C$17) -> -2 | L19: =_xlfn.COVARIANCE.S(E$12:E$17,$D$12:$D$17) -> 1.6 | M19: =_xlfn.COVARIANCE.S(E$12:E$17,$E$12:$E$17) -> 2.4 | P19: -2.4 | Q19: -2 | R19: 1.6 | S19: 2.4
J20: =_xlfn.FORMULATEXT(J16) -> =COVARIANCE.S($B$12:$B$17,B12:B17) | P20: =_xlfn.FORMULATEXT(P16) -> =G6*(MMULT(TRANSPOSE(B12:E17),B12:E17)) | U20: =_xlfn.FORMULATEXT(U16) -> =MINVERSE(J23:M26)
J22: Covariance matrix (SUMPRODUCT formula) | P22: Determinant det(X)
J23: =SUMPRODUCT($B$12:$B$17,B$12:B$17)/(COUNT(B$12:B$17)-1) -> 2.4 | K23: =SUMPRODUCT(B$12:B$17,C$12:C$17)/(COUNT(C$12:C$17)-1) -> 2 | L23: =SUMPRODUCT(B$12:B$17,D$12:D$17)/(COUNT(D$12:D$17)-1) -> -1.6 | M23: =SUMPRODUCT(B$12:B$17,E$12:E$17)/(COUNT(E$12:E$17)-1) -> -2.4 | P23: =MDETERM(P16:S19) -> 0 | Q23: =_xlfn.FORMULATEXT(P23) -> =MDETERM(P16:S19)
J24: =SUMPRODUCT($B$12:$B$17,C$12:C$17)/(COUNT(C$12:C$17)-1) -> 2 | K24: =SUMPRODUCT(C$12:C$17,C$12:C$17)/(COUNT(C$12:C$17)-1) -> 2.4 | L24: =SUMPRODUCT(C$12:C$17,D$12:D$17)/(COUNT(D$12:D$17)-1) -> -1.8 | M24: =SUMPRODUCT(C$12:C$17,E$12:E$17)/(COUNT(E$12:E$17)-1) -> -2
J25: =SUMPRODUCT($B$12:$B$17,D$12:D$17)/(COUNT(D$12:D$17)-1) -> -1.6 | K25: =SUMPRODUCT(D$12:D$17,C$12:C$17)/(COUNT(C$12:C$17)-1) -> -1.8 | L25: =SUMPRODUCT(D$12:D$17,D$12:D$17)/(COUNT(D$12:D$17)-1) -> 1.4666667 | M25: =SUMPRODUCT(D$12:D$17,E$12:E$17)/(COUNT(E$12:E$17)-1) -> 1.6
J26: =SUMPRODUCT($B$12:$B$17,E$12:E$17)/(COUNT(E$12:E$17)-1) -> -2.4 | K26: =SUMPRODUCT(E$12:E$17,C$12:C$17)/(COUNT(C$12:C$17)-1) -> -2 | L26: =SUMPRODUCT(E$12:E$17,D$12:D$17)/(COUNT(D$12:D$17)-1) -> 1.6 | M26: =SUMPRODUCT(E$12:E$17,E$12:E$17)/(COUNT(E$12:E$17)-1) -> 2.4
J27: =_xlfn.FORMULATEXT(J23) -> =SUMPRODUCT($B$12:$B$17,B$12:B$17)/(COUNT(B$12:B$17)-1)

Sheet Covar 1
A1: X | B1: Movie 1 | C1: Movie 2 | D1: Movie 3 | E1: Movie 4 | G1: XcT Xc
A2: Person 1 | B2: 5 | C2: 4 | D2: 2 | E2: 1 | G2: {=MMULT(TRANSPOSE(B12:E17),B12:E17)} -> 12 | H2: 10 | I2: -8 | J2: -13
A3: Person 2 | B3: 4 | C3: 5 | D3: 2 | E3: 2 | G3: 10 | H3: 12 | I3: -9 | J3: -11
A4: Person 3 | B4: 1 | C4: 2 | D4: 4 | E4: 5 | G4: -8 | H4: -9 | I4: 7.3333333 | J4: 8.6666667
A5: Person 4 | B5: 2 | C5: 1 | D5: 5 | E5: 4 | G5: -13 | H5: -11 | I5: 8.6666667 | J5: 14.833333
A6: Person 5 | B6: 4 | C6: 4 | D6: 3 | E6: 2 | G6: =_xlfn.FORMULATEXT(G2) -> =MMULT(TRANSPOSE(B12:E17),B12:E17)
A7: Person 6 | B7: 2 | C7: 2 | D7: 4 | E7: 5
A8: Means | B8: =AVERAGE(B2:B7) -> 3 | C8: =AVERAGE(C2:C7) -> 3 | D8: =AVERAGE(D2:D7) -> 3.3333333 | E8: =AVERAGE(E2:E7) -> 3.1666667 | G8: 1/(N-1) XcT Xc | H8: Covariance matrix
B9: =_xlfn.FORMULATEXT(B8) -> =AVERAGE(B2:B7) | G9: {=1/5*G2:J5} -> 2.4 | H9: 2 | I9: -1.6 | J9: -2.6
G10: 2 | H10: 2.4 | I10: -1.8 | J10: -2.2
A11: Centred Xc | G11: -1.6 | H11: -1.8 | I11: 1.4666667 | J11: 1.7333333
B12: =B2-B$8 -> 2 | C12: =C2-C$8 -> 1 | D12: =D2-D$8 -> -1.3333333 | E12: =E2-E$8 -> -2.1666667 | F12: =_xlfn.FORMULATEXT(B12) -> =B2-B$8 | G12: -2.6 | H12: -2.2 | I12: 1.7333333 | J12: 2.9666667
B13: =B3-B$8 -> 1 | C13: =C3-C$8 -> 2 | D13: =D3-D$8 -> -1.3333333 | E13: =E3-E$8 -> -1.1666667 | G13: =_xlfn.FORMULATEXT(G9) -> =1/5*G2:J5
B14: =B4-B$8 -> -2 | C14: =C4-C$8 -> -1 | D14: =D4-D$8 -> 0.66666667 | E14: =E4-E$8 -> 1.8333333
B15: =B5-B$8 -> -1 | C15: =C5-C$8 -> -2 | D15: =D5-D$8 -> 1.6666667 | E15: =E5-E$8 -> 0.83333333 | G15: Covariance matrix (single formula) | L15: Inverse matrix
B16: =B6-B$8 -> 1 | C16: =C6-C$8 -> 1 | D16: =D6-D$8 -> -0.33333333 | E16: =E6-E$8 -> -1.1666667 | G16: {=1/5*(MMULT(TRANSPOSE(B12:E17),B12:E17))} -> 2.4 | H16: 2 | I16: -1.6 | J16: -2.6 | L16: {=MINVERSE(G16:J19)} -> 9.5408163 | M16: 1.0204082 | N16: 2.8571429 | O16: 7.4489796
B17: =B7-B$8 -> -1 | C17: =C7-C$8 -> -1 | D17: =D7-D$8 -> 0.66666667 | E17: =E7-E$8 -> 1.8333333 | G17: 2 | H17: 2.4 | I17: -1.8 | J17: -2.2 | L17: 1.0204082 | M17: 5.5102041 | N17: 6.4285714 | O17: 1.2244898
A18: Means | B18: =AVERAGE(B12:B17) -> 0 | C18: =AVERAGE(C12:C17) -> 0 | D18: =AVERAGE(D12:D17) -> -1.4802974e-16 | E18: =AVERAGE(E12:E17) -> 0 | G18: -1.6 | H18: -1.8 | I18: 1.4666667 | J18: 1.7333333 | L18: 2.8571429 | M18: 6.4285714 | N18: 10 | O18: 1.4285714
B19: =_xlfn.FORMULATEXT(B18) -> =AVERAGE(B12:B17) | G19: -2.6 | H19: -2.2 | I19: 1.7333333 | J19: 2.9666667 | L19: 7.4489796 | M19: 1.2244898 | N19: 1.4285714 | O19: 6.9387755
G20: =_xlfn.FORMULATEXT(G16) -> =1/5*(MMULT(TRANSPOSE(B12:E17),B12:E17)) | L20: =_xlfn.FORMULATEXT(L16) -> =MINVERSE(G16:J19)
G22: Determinant det(X)
G23: =MDETERM(G16:J19) -> 0.026133333 | H23: =_xlfn.FORMULATEXT(G23) -> =MDETERM(G16:J19)

Sheet Covar cent+scaled
A1: X | B1: Movie 1 | C1: Movie 2 | D1: Movie 3 | E1: Movie 4 | F1: m= | G1: 6 | H1: rows | K1: Covariance - Data Analysis add-in | P1: XcT Xc | U1: XTC,SCL XC,SCL/1/(N-1)
A2: Person 1 | B2: 5 | C2: 4 | D2: 2 | E2: 1 | F2: n= | G2: 4 | H2: columns | K2: Column 1 | L2: Column 2 | M2: Column 3 | N2: Column 4 | P2: {=MMULT(TRANSPOSE(B12:E17),B12:E17)} -> 12 | Q2: 10 | R2: -8 | S2: -13 | U2: {=G5*MMULT(TRANSPOSE(B22:E28),B22:E28)} -> 2.4 | V2: 2 | W2: -1.6 | X2: -2.6
A3: Person 2 | B3: 4 | C3: 5 | D3: 2 | E3: 2 | F3: m x n= | G3: =G1*G2 -> 24 | J3: Column 1 | K3: =VARP('Covar cent+scaled'!$B$12:$B$17) -> 2 | P3: 10 | Q3: 12 | R3: -9 | S3: -11 | U3: 2 | V3: 2.4 | W3: -1.8 | X3: -2.2
A4: Person 3 | B4: 1 | C4: 2 | D4: 4 | E4: 5 | F4: N= | G4: 6 | H4: No. of people | J4: Column 2 | K4: 0.33333333 | L4: =VARP('Covar cent+scaled'!$C$12:$C$17) -> 2 | P4: -8 | Q4: -9 | R4: 7.3333333 | S4: 8.6666667 | U4: -1.6 | V4: -1.8 | W4: 1.4666667 | X4: 1.7333333
A5: Person 4 | B5: 2 | C5: 1 | D5: 5 | E5: 4 | F5: N-1= | G5: =G4-1 -> 5 | J5: Column 3 | K5: -0.26666667 | L5: -0.3 | M5: =VARP('Covar cent+scaled'!$D$12:$D$17) -> 1.2222222 | P5: -13 | Q5: -11 | R5: 8.6666667 | S5: 14.833333 | U5: -2.6 | V5: -2.2 | W5: 1.7333333 | X5: 2.9666667
A6: Person 5 | B6: 4 | C6: 4 | D6: 3 | E6: 2 | F6: 1/(N-1) | G6: =1/G5 -> 0.2 | H6: =_xlfn.FORMULATEXT(G6) -> =1/G5 | J6: Column 4 | K6: -0.4 | L6: -0.33333333 | M6: 0.26666667 | N6: =VARP('Covar cent+scaled'!$E$12:$E$17) -> 2.4722222 | P6: =_xlfn.FORMULATEXT(P2) -> =MMULT(TRANSPOSE(B12:E17),B12:E17) | U6: =_xlfn.FORMULATEXT(U2) -> =G5*MMULT(TRANSPOSE(B22:E28),B22:E28)
A7: Person 6 | B7: 2 | C7: 2 | D7: 4 | E7: 5
A8: Means | B8: =AVERAGE(B2:B7) -> 3 | C8: =AVERAGE(C2:C7) -> 3 | D8: =AVERAGE(D2:D7) -> 3.3333333 | E8: =AVERAGE(E2:E7) -> 3.1666667 | K8: Manual .P | P8: 1/(N-1) XcT Xc, scaled Covariance matrix
B9: =_xlfn.FORMULATEXT(B8) -> =AVERAGE(B2:B7) | K9: =_xlfn.VAR.P($B$12:$B$17,B12:B17) -> 2 | L9: =_xlfn.FORMULATEXT(K9) -> =VAR.P($B$12:$B$17,B12:B17) | P9: {=$G$6*P2:S5} -> 2.4 | Q9: 2 | R9: -1.6 | S9: -2.6 | T9: This formula guarantees that s2, which is L from EVD = l which is S from SVD
K10: =_xlfn.COVARIANCE.P($B$12:$B$17,C12:C17) -> 1.6666667 | L10: =_xlfn.VAR.P($C$12:$C$17,C12:C17) -> 2 | P10: 2 | Q10: 2.4 | R10: -1.8 | S10: -2.2 | W10: s2 = l
A11: Centred Xc | K11: =_xlfn.COVARIANCE.P($B$12:$B$17,D12:D17) -> -1.3333333 | L11: =_xlfn.COVARIANCE.P($C$12:$C$17,D12:D17) -> -1.5 | M11: =_xlfn.VAR.P($D$12:$D$17,D12:D17) -> 1.2222222 | P11: -1.6 | Q11: -1.8 | R11: 1.4666667 | S11: 1.7333333
B12: =B2-B$8 -> 2 | C12: =C2-C$8 -> 1 | D12: =D2-D$8 -> -1.3333333 | E12: =E2-E$8 -> -2.1666667 | F12: =_xlfn.FORMULATEXT(B12) -> =B2-B$8 | K12: =_xlfn.COVARIANCE.P($B$12:$B$17,E12:E17) -> -2.1666667 | L12: =_xlfn.COVARIANCE.P($C$12:$C$17,C14:C19) -> -0.68 | M12: =_xlfn.COVARIANCE.P($D$12:$D$17,E12:E17) -> 1.4444444 | N12: =_xlfn.VAR.P(E12:E17,E12:E17) -> 2.4722222 | P12: -2.6 | Q12: -2.2 | R12: 1.7333333 | S12: 2.9666667
B13: =B3-B$8 -> 1 | C13: =C3-C$8 -> 2 | D13: =D3-D$8 -> -1.3333333 | E13: =E3-E$8 -> -1.1666667 | K13: =_xlfn.FORMULATEXT(K12) -> =COVARIANCE.P($B$12:$B$17,E12:E17) | P13: =_xlfn.FORMULATEXT(P9) -> =$G$6*P2:S5
B14: =B4-B$8 -> -2 | C14: =C4-C$8 -> -1 | D14: =D4-D$8 -> 0.66666667 | E14: =E4-E$8 -> 1.8333333
B15: =B5-B$8 -> -1 | C15: =C5-C$8 -> -2 | D15: =D5-D$8 -> 1.6666667 | E15: =E5-E$8 -> 0.83333333 | K15: Manual .S | P15: Covariance matrix (single formula) | U15: Inverse matrix
B16: =B6-B$8 -> 1 | C16: =C6-C$8 -> 1 | D16: =D6-D$8 -> -0.33333333 | E16: =E6-E$8 -> -1.1666667 | K16: =_xlfn.COVARIANCE.S($B$12:$B$17,B12:B17) -> 2.4 | L16: =_xlfn.COVARIANCE.S(B$12:B$17,$C$12:$C$17) -> 2 | M16: =_xlfn.COVARIANCE.S(B$12:B$17,$D$12:$D$17) -> -1.6 | N16: =_xlfn.COVARIANCE.S(B$12:B$17,$E$12:$E$17) -> -2.6 | P16: {=$G$6*(MMULT(TRANSPOSE(B12:E17),B12:E17))} -> 2.4 | Q16: 2 | R16: -1.6 | S16: -2.6 | U16: {=MINVERSE(K23:N26)} -> 9.5408163 | V16: 1.0204082 | W16: 2.8571429 | X16: 7.4489796
B17: =B7-B$8 -> -1 | C17: =C7-C$8 -> -1 | D17: =D7-D$8 -> 0.66666667 | E17: =E7-E$8 -> 1.8333333 | K17: =_xlfn.COVARIANCE.S($B$12:$B$17,C12:C17) -> 2 | L17: =_xlfn.COVARIANCE.S(C$12:C$17,$C$12:$C$17) -> 2.4 | M17: =_xlfn.COVARIANCE.S(C$12:C$17,$D$12:$D$17) -> -1.8 | N17: =_xlfn.COVARIANCE.S(C$12:C$17,$E$12:$E$17) -> -2.2 | P17: 2 | Q17: 2.4 | R17: -1.8 | S17: -2.2 | U17: 1.0204082 | V17: 5.5102041 | W17: 6.4285714 | X17: 1.2244898
A18: Means | B18: =AVERAGE(B12:B17) -> 0 | C18: =AVERAGE(C12:C17) -> 0 | D18: =AVERAGE(D12:D17) -> -1.4802974e-16 | E18: =AVERAGE(E12:E17) -> 0 | K18: =_xlfn.COVARIANCE.S($B$12:$B$17,D12:D17) -> -1.6 | L18: =_xlfn.COVARIANCE.S(D$12:D$17,$C$12:$C$17) -> -1.8 | M18: =_xlfn.COVARIANCE.S(D$12:D$17,$D$12:$D$17) -> 1.4666667 | N18: =_xlfn.COVARIANCE.S(D$12:D$17,$E$12:$E$17) -> 1.7333333 | P18: -1.6 | Q18: -1.8 | R18: 1.4666667 | S18: 1.7333333 | U18: 2.8571429 | V18: 6.4285714 | W18: 10 | X18: 1.4285714
B19: =_xlfn.FORMULATEXT(B18) -> =AVERAGE(B12:B17) | K19: =_xlfn.COVARIANCE.S($B$12:$B$17,E12:E17) -> -2.6 | L19: =_xlfn.COVARIANCE.S(E$12:E$17,$C$12:$C$17) -> -2.2 | M19: =_xlfn.COVARIANCE.S(E$12:E$17,$D$12:$D$17) -> 1.7333333 | N19: =_xlfn.COVARIANCE.S(E$12:E$17,$E$12:$E$17) -> 2.9666667 | P19: -2.6 | Q19: -2.2 | R19: 1.7333333 | S19: 2.9666667 | U19: 7.4489796 | V19: 1.2244898 | W19: 1.4285714 | X19: 6.9387755
K20: =_xlfn.FORMULATEXT(K16) -> =COVARIANCE.S($B$12:$B$17,B12:B17) | P20: =_xlfn.FORMULATEXT(P16) -> =$G$6*(MMULT(TRANSPOSE(B12:E17),B12:E17)) | U20: =_xlfn.FORMULATEXT(U16) -> =MINVERSE(K23:N26)
A21: XC,SCL centred and scaled by 1/(N-1)
B22: =$G$6*B12 -> 0.4 | C22: =$G$6*C12 -> 0.2 | D22: =$G$6*D12 -> -0.26666667 | E22: =$G$6*E12 -> -0.43333333 | F22: =_xlfn.FORMULATEXT(B22) -> =$G$6*B12 | K22: Covariance matrix (SUMPRODUCT formula) | P22: Determinant det(X)
B23: =$G$6*B13 -> 0.2 | C23: =$G$6*C13 -> 0.4 | D23: =$G$6*D13 -> -0.26666667 | E23: =$G$6*E13 -> -0.23333333 | K23: =SUMPRODUCT($B$12:$B$17,B$12:B$17)/(COUNT(B$12:B$17)-1) -> 2.4 | L23: =SUMPRODUCT(B$12:B$17,C$12:C$17)/(COUNT(C$12:C$17)-1) -> 2 | M23: =SUMPRODUCT(B$12:B$17,D$12:D$17)/(COUNT(D$12:D$17)-1) -> -1.6 | N23: =SUMPRODUCT(B$12:B$17,E$12:E$17)/(COUNT(E$12:E$17)-1) -> -2.6 | P23: =MDETERM(_xlfn.ANCHORARRAY(P16)) -> 0.026133333 | Q23: =_xlfn.FORMULATEXT(P23) -> =MDETERM(P16#)
B24: =$G$6*B14 -> -0.4 | C24: =$G$6*C14 -> -0.2 | D24: =$G$6*D14 -> 0.13333333 | E24: =$G$6*E14 -> 0.36666667 | K24: =SUMPRODUCT($B$12:$B$17,C$12:C$17)/(COUNT(C$12:C$17)-1) -> 2 | L24: =SUMPRODUCT(C$12:C$17,C$12:C$17)/(COUNT(C$12:C$17)-1) -> 2.4 | M24: =SUMPRODUCT(C$12:C$17,D$12:D$17)/(COUNT(D$12:D$17)-1) -> -1.8 | N24: =SUMPRODUCT(C$12:C$17,E$12:E$17)/(COUNT(E$12:E$17)-1) -> -2.2
B25: =$G$6*B15 -> -0.2 | C25: =$G$6*C15 -> -0.4 | D25: =$G$6*D15 -> 0.33333333 | E25: =$G$6*E15 -> 0.16666667 | K25: =SUMPRODUCT($B$12:$B$17,D$12:D$17)/(COUNT(D$12:D$17)-1) -> -1.6 | L25: =SUMPRODUCT(D$12:D$17,C$12:C$17)/(COUNT(C$12:C$17)-1) -> -1.8 | M25: =SUMPRODUCT(D$12:D$17,D$12:D$17)/(COUNT(D$12:D$17)-1) -> 1.4666667 | N25: =SUMPRODUCT(D$12:D$17,E$12:E$17)/(COUNT(E$12:E$17)-1) -> 1.7333333
B26: =$G$6*B16 -> 0.2 | C26: =$G$6*C16 -> 0.2 | D26: =$G$6*D16 -> -0.066666667 | E26: =$G$6*E16 -> -0.23333333 | K26: =SUMPRODUCT($B$12:$B$17,E$12:E$17)/(COUNT(E$12:E$17)-1) -> -2.6 | L26: =SUMPRODUCT(E$12:E$17,C$12:C$17)/(COUNT(C$12:C$17)-1) -> -2.2 | M26: =SUMPRODUCT(E$12:E$17,D$12:D$17)/(COUNT(D$12:D$17)-1) -> 1.7333333 | N26: =SUMPRODUCT(E$12:E$17,E$12:E$17)/(COUNT(E$12:E$17)-1) -> 2.9666667
B27: =$G$6*B17 -> -0.2 | C27: =$G$6*C17 -> -0.2 | D27: =$G$6*D17 -> 0.13333333 | E27: =$G$6*E17 -> 0.36666667 | K27: =_xlfn.FORMULATEXT(K23) -> =SUMPRODUCT($B$12:$B$17,B$12:B$17)/(COUNT(B$12:B$17)-1)
B28: =$G$6*B18 -> 0 | C28: =$G$6*C18 -> 0 | D28: =$G$6*D18 -> -2.9605947e-17 | E28: =$G$6*E18 -> 0
A29: Means | B29: =AVERAGE(B22:B28) -> 7.9301645e-18 | C29: =AVERAGE(C22:C28) -> 7.9301645e-18 | D29: =AVERAGE(D22:D28) -> -3.5950079e-17 | E29: =AVERAGE(E22:E28) -> 2.3790493e-17
B30: =_xlfn.FORMULATEXT(B29) -> =AVERAGE(B22:B28)

Sheet Cholesky
A1: C Covariance matrix of XC,SCL | G1: L LT = XC,SCL
A2: ='Covar cent+scaled'!P16 -> 2.4 | B2: ='Covar cent+scaled'!Q16 -> 2 | C2: ='Covar cent+scaled'!R16 -> -1.6 | D2: ='Covar cent+scaled'!S16 -> -2.6 | G2: {=MMULT(A9:D12,A16:D19)} -> 2.4 | H2: 2 | I2: -1.6 | J2: -2.6
A3: ='Covar cent+scaled'!P17 -> 2 | B3: ='Covar cent+scaled'!Q17 -> 2.4 | C3: ='Covar cent+scaled'!R17 -> -1.8 | D3: ='Covar cent+scaled'!S17 -> -2.2 | G3: 2 | H3: 2.4 | I3: -1.8 | J3: -2.2
A4: ='Covar cent+scaled'!P18 -> -1.6 | B4: ='Covar cent+scaled'!Q18 -> -1.8 | C4: ='Covar cent+scaled'!R18 -> 1.4666667 | D4: ='Covar cent+scaled'!S18 -> 1.7333333 | G4: -1.6 | H4: -1.8 | I4: 1.4666667 | J4: 1.7333333
A5: ='Covar cent+scaled'!P19 -> -2.6 | B5: ='Covar cent+scaled'!Q19 -> -2.2 | C5: ='Covar cent+scaled'!R19 -> 1.7333333 | D5: ='Covar cent+scaled'!S19 -> 2.9666667 | G5: -2.6 | H5: -2.2 | I5: 1.7333333 | J5: 2.9666667
A6: =_xlfn.FORMULATEXT(A2) -> ='Covar cent+scaled'!P16 | G6: =_xlfn.FORMULATEXT(G2) -> =MMULT(A9:D12,A16:D19)
A8: L | F8: Diagonal formulae | J8: Non-diagonal formulae | N8: Zero values in
A9: =SQRT(A2) -> 1.5491933 | B9: 0 | C9: 0 | D9: 0 | F9: A8= | G9: =_xlfn.FORMULATEXT(A9) -> =SQRT(A2) | J9: A9= | K9: =_xlfn.FORMULATEXT(A10) -> =B2/A9 | N9: B8
A10: =B2/A9 -> 1.2909944 | B10: =SQRT(B3-A10^2) -> 0.85634884 | C10: 0 | D10: 0 | F10: B9= | G10: =_xlfn.FORMULATEXT(B10) -> =SQRT(B3-A10^2) | J10: A10= | K10: =_xlfn.FORMULATEXT(A11) -> =C2/A9 | N10: C8
A11: =C2/A9 -> -1.0327956 | B11: =(C3-A10*A11)/B10 -> -0.54494926 | C11: =SQRT(C4-A11^2-B11^2) -> 0.32098334 | D11: 0 | F11: C10= | G11: =_xlfn.FORMULATEXT(C11) -> =SQRT(C4-A11^2-B11^2) | J11: A11= | K11: =_xlfn.FORMULATEXT(A12) -> =D2/A9 | N11: C9
A12: =D2/A9 -> -1.6782928 | B12: =(D3-A10*A12)/B10 -> -0.038924947 | C12: =(D4-A11*A12-B11*B12)/C11 -> -0.066084805 | D12: =SQRT(D5-A12^2-B12^2-C12^2) -> 0.3796283 | F12: D11= | G12: =_xlfn.FORMULATEXT(D12) -> =SQRT(D5-A12^2-B12^2-C12^2) | J12: B10= | K12: =_xlfn.FORMULATEXT(B11) -> =(C3-A10*A11)/B10 | N12: D8
J13: B11= | K13: =_xlfn.FORMULATEXT(B12) -> =(D3-A10*A12)/B10 | N13: D9
J14: C11= | K14: =_xlfn.FORMULATEXT(C12) -> =(D4-A11*A12-B11*B12)/C11 | N14: D10
A15: LT
A16: {=TRANSPOSE(A9:D12)} -> 1.5491933 | B16: 1.2909944 | C16: -1.0327956 | D16: -1.6782928
A17: 0 | B17: 0.85634884 | C17: -0.54494926 | D17: -0.038924947
A18: 0 | B18: 0 | C18: 0.32098334 | D18: -0.066084805
A19: 0 | B19: 0 | C19: 0 | D19: 0.3796283
A20: =_xlfn.FORMULATEXT(A16) -> =TRANSPOSE(A9:D12)

Sheet Eigen exmpl
A1: A | D1: v | F1: A · v | G1: = | H1: l · v
A2: -2 | B2: 2.5 | D2: 2 | F2: {=MMULT(A2:B3,D2:D3)} -> 6 | H2: 2
A3: 2 | B3: 2 | D3: 4 | F3: 12 | H3: 4
F4: =_xlfn.FORMULATEXT(F2) -> =MMULT(A2:B3,D2:D3)

Sheet EVD
A1: X | B1: Movie 1 | C1: Movie 2 | D1: Movie 3 | E1: Movie 4 | G1: Eigenvalues l | L1: Eigenvectors V | R1: L
A2: Person 1 | B2: 5 | C2: 4 | D2: 2 | E2: 1 | G2: {=[1]!eigVALSym(A20:D23)} -> 8.4148141 | H2: 0.67959958 | I2: 0.08542438 | J2: 0.053495265 | K2: L | L2: {=[1]!eigVECTSym(A20:D23)} -> 8.4148141 | M2: 0.67959958 | N2: 0.08542438 | O2: 0.053495265 | P2: Eigenvalues l | R2: =G2 -> 8.4148141 | S2: 0 | T2: 0 | U2: 0
A3: Person 2 | B3: 4 | C3: 5 | D3: 2 | E3: 2 | G3: -1.9669987e-12 | H3: -4.602437e-16 | I3: -5.0720989e-18 | J3: 1.0167183e-16 | K3: V | L3: -0.51810245 | M3: -0.38947147 | N3: -0.47163135 | O3: -0.59786763 | R3: 0 | S3: =H2 -> 0.67959958 | T3: 0 | U3: 0
A4: Person 3 | B4: 1 | C4: 2 | D4: 4 | E4: 5 | G4: =_xlfn.FORMULATEXT(G2) -> =eigVALSym(A20:D23) | L4: -0.49925618 | M4: 0.63869476 | N4: 0.46763673 | O4: -0.35231827 | R4: 0 | S4: 0 | T4: =I2 -> 0.08542438 | U4: 0
A5: Person 4 | B5: 2 | C5: 1 | D5: 5 | E5: 4 | L5: 0.39170924 | M5: -0.43491168 | N5: 0.60834741 | O5: -0.53603091 | R5: 0 | S5: 0 | T5: 0 | U5: =J2 -> 0.053495265
A6: Person 5 | B6: 4 | C6: 4 | D6: 3 | E6: 2 | L6: 0.57347799 | M6: 0.50123128 | N6: -0.43450339 | O6: -0.4807255 | R6: =_xlfn.FORMULATEXT(R2) -> =G2 | S6: =_xlfn.FORMULATEXT(S3) -> =H2 | T6: =_xlfn.FORMULATEXT(T4) -> =I2 | U6: =_xlfn.FORMULATEXT(U5) -> =J2
A7: Person 6 | B7: 2 | C7: 2 | D7: 4 | E7: 5 | L7: -1.9669987e-12 | M7: -4.602437e-16 | N7: -5.0720989e-18 | O7: 1.0167183e-16
A8: Means | B8: =AVERAGE(B2:B7) -> 3 | C8: =AVERAGE(C2:C7) -> 3 | D8: =AVERAGE(D2:D7) -> 3.3333333 | E8: =AVERAGE(E2:E7) -> 3.1666667 | L8: 6.6613381e-15 | M8: 4.4408921e-16 | N8: 4.4408921e-16 | O8: 1.3322676e-15
L9: =_xlfn.FORMULATEXT(L2) -> =eigVECTSym(A20:D23)
A10: Centred Xc | R10: Test that decomposition works
B11: =B2-B$8 -> 2 | C11: =C2-C$8 -> 1 | D11: =D2-D$8 -> -1.3333333 | E11: =E2-E$8 -> -2.1666667 | G11: VT | K11: V-1 = VT | L11: V-1 | R11: V L V-1
B12: =B3-B$8 -> 1 | C12: =C3-C$8 -> 2 | D12: =D3-D$8 -> -1.3333333 | E12: =E3-E$8 -> -1.1666667 | G12: {=TRANSPOSE(L3:O6)} -> -0.51810245 | H12: -0.49925618 | I12: 0.39170924 | J12: 0.57347799 | L12: {=MINVERSE(L3:O6)} -> -0.51810245 | M12: -0.49925618 | N12: 0.39170924 | O12: 0.57347799 | R12: {=MMULT(MMULT(L3:O6,R2:U5),L12:O15)} -> 2.4 | S12: 2 | T12: -1.6 | U12: -2.6
B13: =B4-B$8 -> -2 | C13: =C4-C$8 -> -1 | D13: =D4-D$8 -> 0.66666667 | E13: =E4-E$8 -> 1.8333333 | G13: -0.38947147 | H13: 0.63869476 | I13: -0.43491168 | J13: 0.50123128 | L13: -0.38947147 | M13: 0.63869476 | N13: -0.43491168 | O13: 0.50123128 | R13: 2 | S13: 2.4 | T13: -1.8 | U13: -2.2
B14: =B5-B$8 -> -1 | C14: =C5-C$8 -> -2 | D14: =D5-D$8 -> 1.6666667 | E14: =E5-E$8 -> 0.83333333 | G14: -0.47163135 | H14: 0.46763673 | I14: 0.60834741 | J14: -0.43450339 | L14: -0.47163135 | M14: 0.46763673 | N14: 0.60834741 | O14: -0.43450339 | R14: -1.6 | S14: -1.8 | T14: 1.4666667 | U14: 1.7333333
B15: =B6-B$8 -> 1 | C15: =C6-C$8 -> 1 | D15: =D6-D$8 -> -0.33333333 | E15: =E6-E$8 -> -1.1666667 | G15: -0.59786763 | H15: -0.35231827 | I15: -0.53603091 | J15: -0.4807255 | L15: -0.59786763 | M15: -0.35231827 | N15: -0.53603091 | O15: -0.4807255 | R15: -2.6 | S15: -2.2 | T15: 1.7333333 | U15: 2.9666667
B16: =B7-B$8 -> -1 | C16: =C7-C$8 -> -1 | D16: =D7-D$8 -> 0.66666667 | E16: =E7-E$8 -> 1.8333333 | G16: =_xlfn.FORMULATEXT(G12) -> =TRANSPOSE(L3:O6) | L16: =_xlfn.FORMULATEXT(L12) -> =MINVERSE(L3:O6) | R16: =_xlfn.FORMULATEXT(R12) -> =MMULT(MMULT(L3:O6,R2:U5),L12:O15)
A17: Means | B17: =AVERAGE(B11:B16) -> 0 | C17: =AVERAGE(C11:C16) -> 0 | D17: =AVERAGE(D11:D16) -> -1.4802974e-16 | E17: =AVERAGE(E11:E16) -> 0
G18: V VT | L18: VT V
A19: Covariance matrix C | G19: {=MMULT(L3:O6,G12:J15)} -> 1 | H19: -1.8041124e-15 | I19: -1.6098234e-15 | J19: 6.9388939e-15 | L19: {=MMULT(G12:J15,L3:O6)} -> 1 | M19: -2.7755576e-16 | N19: 4.7184479e-16 | O19: 6.1062266e-16 | R19: EVD = Can be applied to any square matrix (not just symmetric)
A20: {=1/(COUNT(B2:B7)-1)*MMULT(TRANSPOSE(B11:E16),B11:E16)} -> 2.4 | B20: 2 | C20: -1.6 | D20: -2.6 | G20: -1.8041124e-15 | H20: 1 | I20: -6.9944051e-15 | J20: -9.7144515e-16 | L20: -2.7755576e-16 | M20: 1 | N20: 4.1633363e-16 | O20: 4.7184479e-16
A21: 2 | B21: 2.4 | C21: -1.8 | D21: -2.2 | G21: -1.6098234e-15 | H21: -6.9944051e-15 | I21: 1 | J21: -9.9920072e-16 | L21: 4.7184479e-16 | M21: 4.1633363e-16 | N21: 1 | O21: 1.4571677e-14 | R21: C = V L V-1
A22: -1.6 | B22: -1.8 | C22: 1.4666667 | D22: 1.7333333 | G22: 6.9388939e-15 | H22: -9.7144515e-16 | I22: -9.9920072e-16 | J22: 1 | L22: 6.1062266e-16 | M22: 4.7184479e-16 | N22: 1.4571677e-14 | O22: 1
A23: -2.6 | B23: -2.2 | C23: 1.7333333 | D23: 2.9666667 | G23: =_xlfn.FORMULATEXT(G19) -> =MMULT(L3:O6,G12:J15) | L23: =_xlfn.FORMULATEXT(L19) -> =MMULT(G12:J15,L3:O6)
A24: =_xlfn.FORMULATEXT(A20) -> =1/(COUNT(B2:B7)-1)*MMULT(TRANSPOSE(B11:E16),B11:E16)
A26: Eigenvalues | B26: Variance | C26: Cumulative %
A27: =L2 -> 8.4148141 | B27: =A27/$A$31 -> 0.91135171 | C27: =B27 -> 0.91135171
A28: =M2 -> 0.67959958 | B28: =A28/$A$31 -> 0.073602843 | C28: =B28+C27 -> 0.98495455
A29: =N2 -> 0.08542438 | B29: =A29/$A$31 -> 0.0092517379 | C29: =B29+C28 -> 0.99420629
A30: =O2 -> 0.053495265 | B30: =A30/$A$31 -> 0.005793711 | C30: =B30+C29 -> 1
A31: =SUM(A27:A30) -> 9.2333333 | B31: =_xlfn.FORMULATEXT(B27) -> =A27/$A$31
A32: =_xlfn.FORMULATEXT(A31) -> =SUM(A27:A30)

Sheet SD
A1: Covariance matrix C | F1: Q and L | K1: Test that decomposition works
A2: =EVD!A20 -> 2.4 | B2: =EVD!B20 -> 2 | C2: =EVD!C20 -> -1.6 | D2: =EVD!D20 -> -2.6 | F2: {=[1]!SPECTRAL(A2:D5,100)} -> -0.51810245 | G2: -0.38947147 | H2: -0.47163135 | I2: -0.59786763 | J2: Q | K2: Q L QT | P2: SD = Special case of EVD (for symmetric matrices only EVD = SD)
A3: =EVD!A21 -> 2 | B3: =EVD!B21 -> 2.4 | C3: =EVD!C21 -> -1.8 | D3: =EVD!D21 -> -2.2 | F3: -0.49925618 | G3: 0.63869476 | H3: 0.46763673 | I3: -0.35231827 | K3: {=MMULT(F2:I5,MMULT(F6:I9,TRANSPOSE(F2:I5)))} -> 2.4 | L3: 2 | M3: -1.6 | N3: -2.6
A4: =EVD!A22 -> -1.6 | B4: =EVD!B22 -> -1.8 | C4: =EVD!C22 -> 1.4666667 | D4: =EVD!D22 -> 1.7333333 | F4: 0.39170924 | G4: -0.43491168 | H4: 0.60834741 | I4: -0.53603091 | K4: 2 | L4: 2.4 | M4: -1.8 | N4: -2.2 | P4: C = Q L QT
A5: =EVD!A23 -> -2.6 | B5: =EVD!B23 -> -2.2 | C5: =EVD!C23 -> 1.7333333 | D5: =EVD!D23 -> 2.9666667 | F5: 0.57347799 | G5: 0.50123128 | H5: -0.43450339 | I5: -0.4807255 | K5: -1.6 | L5: -1.8 | M5: 1.4666667 | N5: 1.7333333
A6: =_xlfn.FORMULATEXT(A2) -> =EVD!A20 | F6: 8.4148141 | G6: 0 | H6: 0 | I6: 0 | J6: L | K6: -2.6 | L6: -2.2 | M6: 1.7333333 | N6: 2.9666667
F7: 0 | G7: 0.67959958 | H7: 0 | I7: 0 | K7: =_xlfn.FORMULATEXT(K3) -> =MMULT(F2:I5,MMULT(F6:I9,TRANSPOSE(F2:I5)))
F8: 0 | G8: 0 | H8: 0.08542438 | I8: 0
F9: 0 | G9: 0 | H9: 0 | I9: 0.053495265
F10: =_xlfn.FORMULATEXT(F2) -> =SPECTRAL(A2:D5,100)

Sheet SVD raw
A1: X | B1: Movie 1 | C1: Movie 2 | D1: Movie 3 | E1: Movie 4 | G1: U from original data X
A2: Person 1 | B2: 5 | C2: 4 | D2: 2 | E2: 1 | G2: {=[1]!SVD_U(B2:E7)} -> 0.38332759 | H2: 0.51039982 | I2: 0.33781143 | J2: 0.49504907 | K2: 0.10101525 | L2: 0.47239576
A3: Person 2 | B3: 4 | C3: 5 | D3: 2 | E3: 2 | G3: 0.4166102 | H3: 0.42016211 | I3: -0.46843976 | J3: -0.23922272 | K3: -0.60609153 | L3: -0.076742993 | N3: SVD = Can be applied to any matrix (square, rectangular,…)
A4: Person 3 | B4: 1 | C4: 2 | D4: 4 | E4: 5 | G4: 0.39836512 | H4: -0.43710905 | I4: -0.43404203 | J4: -0.17838538 | K4: 0.30304576 | L4: 0.58154135
A5: Person 4 | B5: 2 | C5: 1 | D5: 5 | E5: 4 | G5: 0.39982603 | H5: -0.4061679 | I5: 0.65493007 | J5: -0.28621346 | K5: -0.40406102 | L5: 0.032402597 | N5: C = U S VT
A6: Person 5 | B6: 4 | C6: 4 | D6: 3 | E6: 2 | G6: 0.42009039 | H6: 0.28287139 | I6: 0.1288994 | J6: -0.42334719 | K6: 0.60609153 | L6: -0.42464456
A7: Person 6 | B7: 2 | C7: 2 | D7: 4 | E7: 5 | G7: 0.42949313 | H7: -0.35623435 | I7: -0.18029611 | J7: 0.6361891 | K7: 0 | L7: -0.50138756
A8: Means | B8: =AVERAGE(B2:B7) -> 3 | C8: =AVERAGE(C2:C7) -> 3 | D8: =AVERAGE(D2:D7) -> 3.3333333 | E8: =AVERAGE(E2:E7) -> 3.1666667 | G8: =_xlfn.FORMULATEXT(G2) -> =SVD_U(B2:E7)
B9: =_xlfn.FORMULATEXT(B8) -> =AVERAGE(B2:B7)
G10: V from original data X | L10: S from original data X
B11: Test that decomposition works | G11: {=[1]!SVD_V(B2:E7)} -> 0.47735815 | H11: 0.52455077 | I11: 0.4633572 | J11: 0.53129633 | L11: {=[1]!SVD_D(B2:E7)} -> 15.335328 | M11: 0 | N11: 0 | O11: 0
B12: U S VT | G12: 0.47943321 | H12: 0.50586753 | I12: -0.57451418 | J12: -0.42915649 | L12: 0 | M12: 6.4859681 | N12: 0 | O12: 0
B13: {=MMULT(G2:L7,MMULT(L11:O16,TRANSPOSE(G11:J14)))} -> 5 | C13: 4 | D13: 2 | E13: 1 | G13: 0.53280308 | H13: -0.38459565 | I13: 0.51626749 | J13: -0.54924944 | L13: 0 | M13: 0 | N13: 1.8260676 | O13: 0
B14: 4 | C14: 5 | D14: 2 | E14: 2 | G14: 0.50832458 | H14: -0.56659573 | I14: -0.43439778 | J14: 0.48153294 | L14: 0 | M14: 0 | N14: 0 | O14: 0.65223788
B15: 1 | C15: 2 | D15: 4 | E15: 5 | G15: =_xlfn.FORMULATEXT(G11) -> =SVD_V(B2:E7) | L15: 0 | M15: 0 | N15: 0 | O15: 0
B16: 2 | C16: 1 | D16: 5 | E16: 4 | L16: 0 | M16: 0 | N16: 0 | O16: 0
B17: 4 | C17: 4 | D17: 3 | E17: 2 | L17: =_xlfn.FORMULATEXT(L11) -> =SVD_D(B2:E7)
B18: 2 | C18: 2 | D18: 4 | E18: 5
B19: =_xlfn.FORMULATEXT(B13) -> =MMULT(G2:L7,MMULT(L11:O16,TRANSPOSE(G11:J14)))

Sheet SVD cov
A1: X | B1: Movie 1 | C1: Movie 2 | D1: Movie 3 | E1: Movie 4 | G1: C of centred data Xc and scaled by 1/(N-1) | L1: S of C | P1: s´(N-1) | T1: S of XC | X1: s2
A2: Person 1 | B2: 5 | C2: 4 | D2: 2 | E2: 1 | G2: {=1/(COUNT(B12:B17)-1)*MMULT(TRANSPOSE(B12:E17),B12:E17)} -> 2.4 | H2: 2 | I2: -1.6 | J2: -2.6 | L2: {=[1]!SVD_D(G2:J5)} -> 8.4148141 | M2: 0 | N2: 0 | O2: 0 | P2: =L2*(COUNT(B2:B7)-1) -> 42.074071 | Q2: =_xlfn.FORMULATEXT(P2) -> =L2*(COUNT(B2:B7)-1) | T2: {=[1]!SVD_D(B12:E17)} -> 6.4864528 | U2: 0 | V2: 0 | W2: 0 | X2: =T2^2 -> 42.074071 | Y2: =_xlfn.FORMULATEXT(X2) -> =T2^2
A3: Person 2 | B3: 4 | C3: 5 | D3: 2 | E3: 2 | G3: 2 | H3: 2.4 | I3: -1.8 | J3: -2.2 | L3: 0 | M3: 0.67959958 | N3: 0 | O3: 0 | P3: =M3*(COUNT(B3:B8)-1) -> 3.3979979 | Q3: =_xlfn.FORMULATEXT(P3) -> =M3*(COUNT(B3:B8)-1) | T3: 0 | U3: 1.8433659 | V3: 0 | W3: 0 | X3: =U3^2 -> 3.3979979 | Y3: =_xlfn.FORMULATEXT(X3) -> =U3^2
A4: Person 3 | B4: 1 | C4: 2 | D4: 4 | E4: 5 | G4: -1.6 | H4: -1.8 | I4: 1.4666667 | J4: 1.7333333 | L4: 0 | M4: 0 | N4: 0.08542438 | O4: 0 | P4: =N4*(COUNT(B4:B9)-1) -> 0.34169752 | Q4: =_xlfn.FORMULATEXT(P4) -> =N4*(COUNT(B4:B9)-1) | T4: 0 | U4: 0 | V4: 0.65354564 | W4: 0 | X4: =V4^2 -> 0.4271219 | Y4: =_xlfn.FORMULATEXT(X4) -> =V4^2
A5: Person 4 | B5: 2 | C5: 1 | D5: 5 | E5: 4 | G5: -2.6 | H5: -2.2 | I5: 1.7333333 | J5: 2.9666667 | L5: 0 | M5: 0 | N5: 0 | O5: 0.053495265 | P5: =O5*(COUNT(B5:B10)-1) -> 0.1604858 | Q5: =_xlfn.FORMULATEXT(P5) -> =O5*(COUNT(B5:B10)-1) | T5: 0 | U5: 0 | V5: 0 | W5: 0.51718113 | X5: =W5^2 -> 0.26747633 | Y5: =_xlfn.FORMULATEXT(X5) -> =W5^2
A6: Person 5 | B6: 4 | C6: 4 | D6: 3 | E6: 2 | G6: =_xlfn.FORMULATEXT(G2) -> =1/(COUNT(B12:B17)-1)*MMULT(TRANSPOSE(B12:E17),B12:E17) | L6: =_xlfn.FORMULATEXT(L2) -> =SVD_D(G2:J5) | T6: 0 | U6: 0 | V6: 0 | W6: 0
A7: Person 6 | B7: 2 | C7: 2 | D7: 4 | E7: 5 | T7: 0 | U7: 0 | V7: 0 | W7: 0
A8: Means | B8: =AVERAGE(B2:B7) -> 3 | C8: =AVERAGE(C2:C7) -> 3 | D8: =AVERAGE(D2:D7) -> 3.3333333 | E8: =AVERAGE(E2:E7) -> 3.1666667 | L8: U of C | T8: =_xlfn.FORMULATEXT(T2) -> =SVD_D(B12:E17)
B9: =_xlfn.FORMULATEXT(B8) -> =AVERAGE(B2:B7) | L9: {=[1]!SVD_U(G2:J5)} -> 0.51810245 | M9: 0.38947147 | N9: 0.47163135 | O9: 0.59786763 | X9: L
G10: Test that decomposition works | L10: 0.49925618 | M10: -0.63869476 | N10: -0.46763673 | O10: 0.35231827 | S10: For symmetric matrices, centred data | X10: =X2/5 -> 8.4148141 | Y10: =_xlfn.FORMULATEXT(X10) -> =X2/5
B11: Centred Xc | G11: U S VT | L11: -0.39170924 | M11: 0.43491168 | N11: -0.60834741 | O11: 0.53603091 | S11: l of C = s of C = s2/(N-1) of XC | X11: =X3/5 -> 0.67959958
B12: =(B2-B$8) -> 2 | C12: =C2-C$8 -> 1 | D12: =D2-D$8 -> -1.3333333 | E12: =E2-E$8 -> -2.1666667 | G12: {=MMULT(L9:O12,MMULT(_xlfn.ANCHORARRAY(L2),TRANSPOSE(_xlfn.ANCHORARRAY(L16))))} -> 2.4 | H12: 2 | I12: -1.6 | J12: -2.6 | L12: -0.57347799 | M12: -0.50123128 | N12: 0.43450339 | O12: 0.4807255 | X12: =X4/5 -> 0.08542438
B13: =(B3-B$8) -> 1 | C13: =C3-C$8 -> 2 | D13: =D3-D$8 -> -1.3333333 | E13: =E3-E$8 -> -1.1666667 | G13: 2 | H13: 2.4 | I13: -1.8 | J13: -2.2 | L13: =_xlfn.FORMULATEXT(L9) -> =SVD_U(G2:J5) | X13: =X5/5 -> 0.053495265
B14: =(B4-B$8) -> -2 | C14: =C4-C$8 -> -1 | D14: =D4-D$8 -> 0.66666667 | E14: =E4-E$8 -> 1.8333333 | G14: -1.6 | H14: -1.8 | I14: 1.4666667 | J14: 1.7333333
B15: =(B5-B$8) -> -1 | C15: =C5-C$8 -> -2 | D15: =D5-D$8 -> 1.6666667 | E15: =E5-E$8 -> 0.83333333 | G15: -2.6 | H15: -2.2 | I15: 1.7333333 | J15: 2.9666667 | L15: V of C | T15: L of C
B16: =(B6-B$8) -> 1 | C16: =C6-C$8 -> 1 | D16: =D6-D$8 -> -0.33333333 | E16: =E6-E$8 -> -1.1666667 | G16: =_xlfn.FORMULATEXT(G12) -> =MMULT(L9:O12,MMULT(L2#,TRANSPOSE(L16#))) | L16: {=[1]!SVD_V(G2:J5)} -> 0.51810245 | M16: 0.38947147 | N16: 0.47163135 | O16: 0.59786763 | T16: {=[1]!eigVALSym(G2:J5)} -> 8.4148141 | U16: 0.67959958 | V16: 0.08542438 | W16: 0.053495265
B17: =(B7-B$8) -> -1 | C17: =C7-C$8 -> -1 | D17: =D7-D$8 -> 0.66666667 | E17: =E7-E$8 -> 1.8333333 | L17: 0.49925618 | M17: -0.63869476 | N17: -0.46763673 | O17: 0.35231827 | T17: -1.9669987e-12 | U17: -4.602437e-16 | V17: -5.0720989e-18 | W17: 1.0167183e-16
A18: Means | B18: =AVERAGE(B12:B17) -> 0 | C18: =AVERAGE(C12:C17) -> 0 | D18: =AVERAGE(D12:D17) -> -1.4802974e-16 | E18: =AVERAGE(E12:E17) -> 0 | L18: -0.39170924 | M18: 0.43491168 | N18: -0.60834741 | O18: 0.53603091 | T18: =_xlfn.FORMULATEXT(T16) -> =eigVALSym(G2:J5)
B19: =_xlfn.FORMULATEXT(B18) -> =AVERAGE(B12:B17) | L19: -0.57347799 | M19: -0.50123128 | N19: 0.43450339 | O19: 0.4807255
A20: B12= | B20: =_xlfn.FORMULATEXT(B12) -> =(B2-B$8) | L20: =_xlfn.FORMULATEXT(L16) -> =SVD_V(G2:J5) | R20: C = U S VT

Sheet EVD & SVD
B1: Centred Xc | J1: Centred and scaled XC,SCL SCL=1/(N-1) | Q1: Centred and scaled XC,SCL SCL=1/Ö(N-1) | X1: X | Y1: Movie 1 | Z1: Movie 2 | AA1: Movie 3 | AB1: Movie 4
B2: =(Y2-Y$8) -> 2 | C2: =Z2-Z$8 -> 1 | D2: =AA2-AA$8 -> -1.3333333 | E2: =AB2-AB$8 -> -2.1666667 | J2: =(Y2-Y$8)*(1/(COUNT($Y$2:$Y$7)-1)) -> 0.4 | K2: =(Z2-Z$8)*(1/(COUNT($Y$2:$Y$7)-1)) -> 0.2 | L2: =(AA2-AA$8)*(1/(COUNT($Y$2:$Y$7)-1)) -> -0.26666667 | M2: =(AB2-AB$8)*(1/(COUNT($Y$2:$Y$7)-1)) -> -0.43333333 | Q2: =(Y2-Y$8)*SQRT(1/(COUNT($Y$2:$Y$7)-1)) -> 0.89442719 | R2: =(Z2-Z$8)*SQRT(1/(COUNT($Y$2:$Y$7)-1)) -> 0.4472136 | S2: =(AA2-AA$8)*SQRT(1/(COUNT($Y$2:$Y$7)-1)) -> -0.59628479 | T2: =(AB2-AB$8)*SQRT(1/(COUNT($Y$2:$Y$7)-1)) -> -0.96896279 | X2: Person 1 | Y2: 5 | Z2: 4 | AA2: 2 | AB2: 1
B3: =(Y3-Y$8) -> 1 | C3: =Z3-Z$8 -> 2 | D3: =AA3-AA$8 -> -1.3333333 | E3: =AB3-AB$8 -> -1.1666667 | J3: =(Y3-Y$8)*(1/(COUNT($Y$2:$Y$7)-1)) -> 0.2 | K3: =(Z3-Z$8)*(1/(COUNT($Y$2:$Y$7)-1)) -> 0.4 | L3: =(AA3-AA$8)*(1/(COUNT($Y$2:$Y$7)-1)) -> -0.26666667 | M3: =(AB3-AB$8)*(1/(COUNT($Y$2:$Y$7)-1)) -> -0.23333333 | Q3: =(Y3-Y$8)*SQRT(1/(COUNT($Y$2:$Y$7)-1)) -> 0.4472136 | R3: =(Z3-Z$8)*SQRT(1/(COUNT($Y$2:$Y$7)-1)) -> 0.89442719 | S3: =(AA3-AA$8)*SQRT(1/(COUNT($Y$2:$Y$7)-1)) -> -0.59628479 | T3: =(AB3-AB$8)*SQRT(1/(COUNT($Y$2:$Y$7)-1)) -> -0.52174919 | X3: Person 2 | Y3: 4 | Z3: 5 | AA3: 2 | AB3: 2
B4: =(Y4-Y$8) -> -2 | C4: =Z4-Z$8 -> -1 | D4: =AA4-AA$8 -> 0.66666667 | E4: =AB4-AB$8 -> 1.8333333 | J4: =(Y4-Y$8)*(1/(COUNT($Y$2:$Y$7)-1)) -> -0.4 | K4: =(Z4-Z$8)*(1/(COUNT($Y$2:$Y$7)-1)) -> -0.2 | L4: =(AA4-AA$8)*(1/(COUNT($Y$2:$Y$7)-1)) -> 0.13333333 | M4: =(AB4-AB$8)*(1/(COUNT($Y$2:$Y$7)-1)) -> 0.36666667 | Q4: =(Y4-Y$8)*SQRT(1/(COUNT($Y$2:$Y$7)-1)) -> -0.89442719 | R4: =(Z4-Z$8)*SQRT(1/(COUNT($Y$2:$Y$7)-1)) -> -0.4472136 | S4: =(AA4-AA$8)*SQRT(1/(COUNT($Y$2:$Y$7)-1)) -> 0.2981424 | T4: =(AB4-AB$8)*SQRT(1/(COUNT($Y$2:$Y$7)-1)) -> 0.81989159 | X4: Person 3 | Y4: 1 | Z4: 2 | AA4: 4 | AB4: 5
B5: =(Y5-Y$8) -> -1 | C5: =Z5-Z$8 -> -2 | D5: =AA5-AA$8 -> 1.6666667 | E5: =AB5-AB$8 -> 0.83333333 | J5: =(Y5-Y$8)*(1/(COUNT($Y$2:$Y$7)-1)) -> -0.2 | K5: =(Z5-Z$8)*(1/(COUNT($Y$2:$Y$7)-1)) -> -0.4 | L5: =(AA5-AA$8)*(1/(COUNT($Y$2:$Y$7)-1)) -> 0.33333333 | M5: =(AB5-AB$8)*(1/(COUNT($Y$2:$Y$7)-1)) -> 0.16666667 | Q5: =(Y5-Y$8)*SQRT(1/(COUNT($Y$2:$Y$7)-1)) -> -0.4472136 | R5: =(Z5-Z$8)*SQRT(1/(COUNT($Y$2:$Y$7)-1)) -> -0.89442719 | S5: =(AA5-AA$8)*SQRT(1/(COUNT($Y$2:$Y$7)-1)) -> 0.74535599 | T5: =(AB5-AB$8)*SQRT(1/(COUNT($Y$2:$Y$7)-1)) -> 0.372678 | X5: Person 4 | Y5: 2 | Z5: 1 | AA5: 5 | AB5: 4
B6: =(Y6-Y$8) -> 1 | C6: =Z6-Z$8 -> 1 | D6: =AA6-AA$8 -> -0.33333333 | E6: =AB6-AB$8 -> -1.1666667 | J6: =(Y6-Y$8)*(1/(COUNT($Y$2:$Y$7)-1)) -> 0.2 | K6: =(Z6-Z$8)*(1/(COUNT($Y$2:$Y$7)-1)) -> 0.2 | L6: =(AA6-AA$8)*(1/(COUNT($Y$2:$Y$7)-1)) -> -0.066666667 | M6: =(AB6-AB$8)*(1/(COUNT($Y$2:$Y$7)-1)) -> -0.23333333 | Q6: =(Y6-Y$8)*SQRT(1/(COUNT($Y$2:$Y$7)-1)) -> 0.4472136 | R6: =(Z6-Z$8)*SQRT(1/(COUNT($Y$2:$Y$7)-1)) -> 0.4472136 | S6: =(AA6-AA$8)*SQRT(1/(COUNT($Y$2:$Y$7)-1)) -> -0.1490712 | T6: =(AB6-AB$8)*SQRT(1/(COUNT($Y$2:$Y$7)-1)) -> -0.52174919 | X6: Person 5 | Y6: 4 | Z6: 4 | AA6: 3 | AB6: 2
B7: =(Y7-Y$8) -> -1 | C7: =Z7-Z$8 -> -1 | D7: =AA7-AA$8 -> 0.66666667 | E7: =AB7-AB$8 -> 1.8333333 | J7: =(Y7-Y$8)*(1/(COUNT($Y$2:$Y$7)-1)) -> -0.2 | K7: =(Z7-Z$8)*(1/(COUNT($Y$2:$Y$7)-1)) -> -0.2 | L7: =(AA7-AA$8)*(1/(COUNT($Y$2:$Y$7)-1)) -> 0.13333333 | M7: =(AB7-AB$8)*(1/(COUNT($Y$2:$Y$7)-1)) -> 0.36666667 | Q7: =(Y7-Y$8)*SQRT(1/(COUNT($Y$2:$Y$7)-1)) -> -0.4472136 | R7: =(Z7-Z$8)*SQRT(1/(COUNT($Y$2:$Y$7)-1)) -> -0.4472136 | S7: =(AA7-AA$8)*SQRT(1/(COUNT($Y$2:$Y$7)-1)) -> 0.2981424 | T7: =(AB7-AB$8)*SQRT(1/(COUNT($Y$2:$Y$7)-1)) -> 0.81989159 | X7: Person 6 | Y7: 2 | Z7: 2 | AA7: 4 | AB7: 5
A8: Means | B8: =AVERAGE(B2:B7) -> 0 | C8: =AVERAGE(C2:C7) -> 0 | D8: =AVERAGE(D2:D7) -> -1.4802974e-16 | E8: =AVERAGE(E2:E7) -> 0 | F8: =_xlfn.FORMULATEXT(B8) -> =AVERAGE(B2:B7) | I8: Means | J8: =AVERAGE(J2:J7) -> 0 | K8: =AVERAGE(K2:K7) -> 0 | L8: =AVERAGE(L2:L7) -> -3.7007434e-17 | M8: =AVERAGE(M2:M7) -> 0 | P8: Means | Q8: =AVERAGE(Q2:Q7) -> 0 | R8: =AVERAGE(R2:R7) -> 0 | S8: =AVERAGE(S2:S7) -> 0 | T8: =AVERAGE(T2:T7) -> 0 | X8: Means | Y8: =AVERAGE(Y2:Y7) -> 3 | Z8: =AVERAGE(Z2:Z7) -> 3 | AA8: =AVERAGE(AA2:AA7) -> 3.3333333 | AB8: =AVERAGE(AB2:AB7) -> 3.1666667
A9: B12 | B9: =_xlfn.FORMULATEXT(B2) -> =(Y2-Y$8) | I9: J2 | J9: =_xlfn.FORMULATEXT(J2) -> =(Y2-Y$8)*(1/(COUNT($Y$2:$Y$7)-1)) | P9: Q2 | Q9: =_xlfn.FORMULATEXT(Q2) -> =(Y2-Y$8)*SQRT(1/(COUNT($Y$2:$Y$7)-1)) | Y9: =_xlfn.FORMULATEXT(Y8) -> =AVERAGE(Y2:Y7)
B11: C = 1/(N-1) XCT XC | J11: C = (N-1) XCT XC | Q11: C = XCT XC | AD11: = V S2 VT
B12: {=1/5*MMULT(TRANSPOSE(B2:E7),B2:E7)} -> 2.4 | C12: 2 | D12: -1.6 | E12: -2.6 | J12: {=5*MMULT(TRANSPOSE(J2:M7),J2:M7)} -> 2.4 | K12: 2 | L12: -1.6 | M12: -2.6 | Q12: {=MMULT(TRANSPOSE(Q2:T7),Q2:T7)} -> 2.4 | R12: 2 | S12: -1.6 | T12: -2.6 | X12: {=MMULT(TRANSPOSE(B2:E7),B2:E7)} -> 12 | Y12: 10 | Z12: -8 | AA12: -13 | AD12: {=MMULT(B28:E31,MMULT((B35:E38)^2,TRANSPOSE(B28:E31)))} -> 12 | AE12: 10 | AF12: -8 | AG12: -13
B13: 2 | C13: 2.4 | D13: -1.8 | E13: -2.2 | J13: 2 | K13: 2.4 | L13: -1.8 | M13: -2.2 | Q13: 2 | R13: 2.4 | S13: -1.8 | T13: -2.2 | X13: 10 | Y13: 12 | Z13: -9 | AA13: -11 | AD13: 10 | AE13: 12 | AF13: -9 | AG13: -11
B14: -1.6 | C14: -1.8 | D14: 1.4666667 | E14: 1.7333333 | J14: -1.6 | K14: -1.8 | L14: 1.4666667 | M14: 1.7333333 | Q14: -1.6 | R14: -1.8 | S14: 1.4666667 | T14: 1.7333333 | X14: -8 | Y14: -9 | Z14: 7.3333333 | AA14: 8.6666667 | AD14: -8 | AE14: -9 | AF14: 7.3333333 | AG14: 8.6666667
B15: -2.6 | C15: -2.2 | D15: 1.7333333 | E15: 2.9666667 | J15: -2.6 | K15: -2.2 | L15: 1.7333333 | M15: 2.9666667 | Q15: -2.6 | R15: -2.2 | S15: 1.7333333 | T15: 2.9666667 | X15: -13 | Y15: -11 | Z15: 8.6666667 | AA15: 14.833333 | AD15: -13 | AE15: -11 | AF15: 8.6666667 | AG15: 14.833333
B16: =_xlfn.FORMULATEXT(B12) -> =1/5*MMULT(TRANSPOSE(B2:E7),B2:E7) | J16: =_xlfn.FORMULATEXT(J12) -> =5*MMULT(TRANSPOSE(J2:M7),J2:M7) | Q16: =_xlfn.FORMULATEXT(Q12) -> =MMULT(TRANSPOSE(Q2:T7),Q2:T7) | X16: =_xlfn.FORMULATEXT(X12) -> =MMULT(TRANSPOSE(B2:E7),B2:E7) | AD16: =_xlfn.FORMULATEXT(AD12) -> =MMULT(B28:E31,MMULT((B35:E38)^2,TRANSPOSE(B28:E31)))
B18: U of XC | J18: U of XC,SCL where SCL=1/(N-1) | Q18: U of XC,SCL where SCL=1/Ö(N-1) | X18: U of C | AD18: C = V S2/(N-1) VT
B19: {=[1]!SVD_U(B2:E7)} -> 0.50879514 | C19: 0.350645 | D19: 0.52839742 | E19: 0.40261768 | F19: 0.40824829 | G19: 0.10101525 | J19: {=[1]!SVD_U(J2:M7)} -> 0.50879514 | K19: 0.350645 | L19: 0.52839742 | M19: 0.40261768 | N19: 0.40824829 | O19: 0.10101525 | Q19: {=[1]!SVD_U(Q2:T7)} -> 0.50879514 | R19: 0.350645 | S19: 0.52839742 | T19: 0.40261768 | U19: 0.40824829 | V19: 0.10101525 | X19: {=[1]!SVD_U(B12:E15)} -> 0.51810245 | Y19: 0.38947147 | Z19: 0.47163135 | AA19: 0.59786763 | AD19: {=MMULT(B28:E31,MMULT(((B35:E38)^2)/5,TRANSPOSE(B28:E31)))} -> 2.4 | AE19: 2 | AF19: -1.6 | AG19: -2.6
B20: 0.41747801 | C20: -0.47903157 | D20: -0.24395061 | E20: -0.05210914 | F20: 0.40824829 | G20: -0.60609153 | J20: 0.41747801 | K20: -0.47903157 | L20: -0.24395061 | M20: -0.05210914 | N20: 0.40824829 | O20: -0.60609153 | Q20: 0.41747801 | R20: -0.47903157 | S20: -0.24395061 | T20: -0.05210914 | U20: 0.40824829 | V20: -0.60609153 | X20: 0.49925618 | Y20: -0.63869476 | Z20: -0.46763673 | AA20: 0.35231827 | AD20: 2 | AE20: 2.4 | AF20: -1.8 | AG20: -2.2
B21: -0.43906538 | C21: -0.41729701 | D21: -0.12944981 | E21: 0.59818404 | F21: 0.40824829 | G21: 0.30304576 | J21: -0.43906538 | K21: -0.41729701 | L21: -0.12944981 | M21: 0.59818404 | N21: 0.40824829 | O21: 0.30304576 | Q21: -0.43906538 | R21: -0.41729701 | S21: -0.12944981 | T21: 0.59818404 | U21: 0.40824829 | V21: 0.30304576 | X21: -0.39170924 | Y21: 0.43491168 | Z21: -0.60834741 | AA21: 0.53603091 | AD21: -1.6 | AE21: -1.8 | AF21: 1.4666667 | AG21: 1.7333333
B22: -0.40813707 | C22: 0.64831302 | D22: -0.28794329 | E22: 0.016463721 | F22: 0.40824829 | G22: -0.40406102 | J22: -0.40813707 | K22: 0.64831302 | L22: -0.28794329 | M22: 0.016463721 | N22: 0.40824829 | O22: -0.40406102 | Q22: -0.40813707 | R22: 0.64831302 | S22: -0.28794329 | T22: 0.016463721 | U22: 0.40824829 | V22: -0.40406102 | X22: -0.57347799 | Y22: -0.50123128 | Z22: 0.43450339 | AA22: 0.4807255 | AD22: -2.6 | AE22: -2.2 | AF22: 1.7333333 | AG22: 2.9666667
B23: 0.28012013 | C23: 0.10338478 | D23: -0.45925413 | E23: -0.40732829 | F23: 0.40824829 | G23: 0.60609153 | J23: 0.28012013 | K23: 0.10338478 | L23: -0.45925413 | M23: -0.40732829 | N23: 0.40824829 | O23: 0.60609153 | Q23: 0.28012013 | R23: 0.10338478 | S23: -0.45925413 | T23: -0.40732829 | U23: 0.40824829 | V23: 0.60609153 | X23: =_xlfn.FORMULATEXT(X19) -> =SVD_U(B12:E15) | AD23: =_xlfn.FORMULATEXT(AD19) -> =MMULT(B28:E31,MMULT(((B35:E38)^2)/5,TRANSPOSE(B28:E31)))
B24: -0.35919084 | C24: -0.20601423 | D24: 0.59220041 | E24: -0.55782802 | F24: 0.40824829 | G24: 0 | J24: -0.35919084 | K24: -0.20601423 | L24: 0.59220041 | M24: -0.55782802 | N24: 0.40824829 | O24: 0 | Q24: -0.35919084 | R24: -0.20601423 | S24: 0.59220041 | T24: -0.55782802 | U24: 0.40824829 | V24: 0
B25: =_xlfn.FORMULATEXT(B19) -> =SVD_U(B2:E7) | J25: =_xlfn.FORMULATEXT(J19) -> =SVD_U(J2:M7) | Q25: =_xlfn.FORMULATEXT(Q19) -> =SVD_U(Q2:T7)
B27: V of XC | J27: V of XC,SCL where SCL=1/(N-1) | Q27: V of XC,SCL where SCL=1/Ö(N-1) | X27: V of C
B28: {=[1]!SVD_V(B2:E7)} -> 0.51810245 | C28: 0.38947147 | D28: 0.47163135 | E28: -0.59786763 | J28: {=[1]!SVD_V(J2:M7)} -> 0.51810245 | K28: 0.38947147 | L28: 0.47163135 | M28: -0.59786763 | Q28: {=[1]!SVD_V(Q2:T7)} -> 0.51810245 | R28: 0.38947147 | S28: 0.47163135 | T28: -0.59786763 | X28: {=[1]!SVD_V(B12:E15)} -> 0.51810245 | Y28: 0.38947147 | Z28: 0.47163135 | AA28: 0.59786763
B29: 0.49925618 | C29: -0.63869476 | D29: -0.46763673 | E29: -0.35231827 | J29: 0.49925618 | K29: -0.63869476 | L29: -0.46763673 | M29: -0.35231827 | Q29: 0.49925618 | R29: -0.63869476 | S29: -0.46763673 | T29: -0.35231827 | X29: 0.49925618 | Y29: -0.63869476 | Z29: -0.46763673 | AA29: 0.35231827
B30: -0.39170924 | C30: 0.43491168 | D30: -0.60834741 | E30: -0.53603091 | J30: -0.39170924 | K30: 0.43491168 | L30: -0.60834741 | M30: -0.53603091 | Q30: -0.39170924 | R30: 0.43491168 | S30: -0.60834741 | T30: -0.53603091 | X30: -0.39170924 | Y30: 0.43491168 | Z30: -0.60834741 | AA30: 0.53603091
B31: -0.57347799 | C31: -0.50123128 | D31: 0.43450339 | E31: -0.4807255 | J31: -0.57347799 | K31: -0.50123128 | L31: 0.43450339 | M31: -0.4807255 | Q31: -0.57347799 | R31: -0.50123128 | S31: 0.43450339 | T31: -0.4807255 | X31: -0.57347799 | Y31: -0.50123128 | Z31: 0.43450339 | AA31: 0.4807255
B32: =_xlfn.FORMULATEXT(B28) -> =SVD_V(B2:E7) | J32: =_xlfn.FORMULATEXT(J28) -> =SVD_V(J2:M7) | Q32: =_xlfn.FORMULATEXT(Q28) -> =SVD_V(Q2:T7) | X32: =_xlfn.FORMULATEXT(X28) -> =SVD_V(B12:E15)
B34: S of XC | J34: S of XC,SCL where SCL=1/Ö(N-1) | Q34: S of XC,SCL where SCL=1/(N-1) | X34: S of C | AD34: L and V of C
B35: {=[1]!SVD_D(B2:E7)} -> 6.4864528 | C35: 0 | D35: 0 | E35: 0 | F35: =B35^2 -> 42.074071 | G35: =F35/5 -> 8.4148141 | J35: {=[1]!SVD_D(J2:M7)} -> 1.2972906 | K35: 0 | L35: 0 | M35: 0 | N35: =(J35^2)*5 -> 8.4148141 | Q35: {=[1]!SVD_D(Q2:T7)} -> 2.9008299 | R35: 0 | S35: 0 | T35: 0 | U35: =Q35^2 -> 8.4148141 | X35: {=[1]!SVD_D(B12:E15)} -> 8.4148141 | Y35: 0 | Z35: 0 | AA35: 0 | AD35: {=[1]!eigVECTSym(B12:E15)} -> 8.4148141 | AE35: 0.67959958 | AF35: 0.08542438 | AG35: 0.053495265
B36: 0 | C36: 1.8433659 | D36: 0 | E36: 0 | F36: =C36^2 -> 3.3979979 | G36: =F36/5 -> 0.67959958 | J36: 0 | K36: 0.36867318 | L36: 0 | M36: 0 | N36: =(K36^2)*5 -> 0.67959958 | Q36: 0 | R36: 0.8243783 | S36: 0 | T36: 0 | U36: =R36^2 -> 0.67959958 | X36: 0 | Y36: 0.67959958 | Z36: 0 | AA36: 0 | AC36: L | AD36: -0.51810245 | AE36: -0.38947147 | AF36: -0.47163135 | AG36: -0.59786763
B37: 0 | C37: 0 | D37: 0.65354564 | E37: 0 | F37: =D37^2 -> 0.4271219 | G37: =F37/5 -> 0.08542438 | J37: 0 | K37: 0 | L37: 0.13070913 | M37: 0 | N37: =(L37^2)*5 -> 0.08542438 | Q37: 0 | R37: 0 | S37: 0.29227449 | T37: 0 | U37: =S37^2 -> 0.08542438 | X37: 0 | Y37: 0 | Z37: 0.08542438 | AA37: 0 | AC37: V | AD37: -0.49925618 | AE37: 0.63869476 | AF37: 0.46763673 | AG37: -0.35231827
B38: 0 | C38: 0 | D38: 0 | E38: 0.51718113 | F38: =E38^2 -> 0.26747633 | G38: =F38/5 -> 0.053495265 | J38: 0 | K38: 0 | L38: 0 | M38: 0.10343623 | N38: =(M38^2)*5 -> 0.053495265 | Q38: 0 | R38: 0 | S38: 0 | T38: 0.23129043 | U38: =T38^2 -> 0.053495265 | X38: 0 | Y38: 0 | Z38: 0 | AA38: 0.053495265 | AD38: 0.39170924 | AE38: -0.43491168 | AF38: 0.60834741 | AG38: -0.53603091
B39: 0 | C39: 0 | D39: 0 | E39: 0 | F39: =_xlfn.FORMULATEXT(F35) -> =B35^2 | G39: =_xlfn.FORMULATEXT(G35) -> =F35/5 | J39: 0 | K39: 0 | L39: 0 | M39: 0 | N39: =_xlfn.FORMULATEXT(N35) -> =(J35^2)*5 | Q39: 0 | R39: 0 | S39: 0 | T39: 0 | U39: =_xlfn.FORMULATEXT(U35) -> =Q35^2 | X39: =_xlfn.FORMULATEXT(X35) -> =SVD_D(B12:E15) | AD39: 0.57347799 | AE39: 0.50123128 | AF39: -0.43450339 | AG39: -0.4807255
B40: 0 | C40: 0 | D40: 0 | E40: 0 | G40: l = s2/(N-1) and s = Öl(N-1) | J40: 0 | K40: 0 | L40: 0 | M40: 0 | N40: l = (N-1)s2 and s = Ö(l/(N-1)) | Q40: 0 | R40: 0 | S40: 0 | T40: 0 | U40: l = s2 and s = Öl | AB40: l = s | AD40: -1.9669987e-12 | AE40: -4.602437e-16 | AF40: -5.0720989e-18 | AG40: 1.0167183e-16
AD41: 6.6613381e-15 | AE41: 4.4408921e-16 | AF41: 4.4408921e-16 | AG41: 1.3322676e-15
B42: Recomposed XC =U S VT | J42: Recomposed XC,SCL where SCL=1/Ö(N-1) | Q42: Recomposed XC,SCL where SCL=1/(N-1) | X42: Recomposed C | AD42: =_xlfn.FORMULATEXT(AD35) -> =eigVECTSym(B12:E15)
B43: {=MMULT(B19:G24,MMULT(B35:E40,TRANSPOSE(B28:E31)))} -> 2 | C43: 1 | D43: -1.3333333 | E43: -2.1666667 | J43: {=MMULT(J19:O24,MMULT(J35:M40,TRANSPOSE(J28:M31)))} -> 0.4 | K43: 0.2 | L43: -0.26666667 | M43: -0.43333333 | Q43: {=MMULT(Q19:V24,MMULT(Q35:T40,TRANSPOSE(Q28:T31)))} -> 0.89442719 | R43: 0.4472136 | S43: -0.59628479 | T43: -0.96896279 | X43: {=MMULT(X19:AA22,MMULT(X35:AA38,TRANSPOSE(X28:AA31)))} -> 2.4 | Y43: 2 | Z43: -1.6 | AA43: -2.6
B44: 1 | C44: 2 | D44: -1.3333333 | E44: -1.1666667 | J44: 0.2 | K44: 0.4 | L44: -0.26666667 | M44: -0.23333333 | Q44: 0.4472136 | R44: 0.89442719 | S44: -0.59628479 | T44: -0.52174919 | X44: 2 | Y44: 2.4 | Z44: -1.8 | AA44: -2.2 | AD44: NOTE: V from EVD is of opposite sign to
B45: -2 | C45: -1 | D45: 0.66666667 | E45: 1.8333333 | J45: -0.4 | K45: -0.2 | L45: 0.13333333 | M45: 0.36666667 | Q45: -0.89442719 | R45: -0.4472136 | S45: 0.2981424 | T45: 0.81989159 | X45: -1.6 | Y45: -1.8 | Z45: 1.4666667 | AA45: 1.7333333 | AD45: V from SVD
B46: -1 | C46: -2 | D46: 1.6666667 | E46: 0.83333333 | J46: -0.2 | K46: -0.4 | L46: 0.33333333 | M46: 0.16666667 | Q46: -0.4472136 | R46: -0.89442719 | S46: 0.74535599 | T46: 0.372678 | X46: -2.6 | Y46: -2.2 | Z46: 1.7333333 | AA46: 2.9666667
B47: 1 | C47: 1 | D47: -0.33333333 | E47: -1.1666667 | J47: 0.2 | K47: 0.2 | L47: -0.066666667 | M47: -0.23333333 | Q47: 0.4472136 | R47: 0.4472136 | S47: -0.1490712 | T47: -0.52174919 | X47: =_xlfn.FORMULATEXT(X43) -> =MMULT(X19:AA22,MMULT(X35:AA38,TRANSPOSE(X28:AA31)))
B48: -1 | C48: -1 | D48: 0.66666667 | E48: 1.8333333 | J48: -0.2 | K48: -0.2 | L48: 0.13333333 | M48: 0.36666667 | Q48: -0.4472136 | R48: -0.4472136 | S48: 0.2981424 | T48: 0.81989159
B49: =_xlfn.FORMULATEXT(B43) -> =MMULT(B19:G24,MMULT(B35:E40,TRANSPOSE(B28:E31))) | J49: =_xlfn.FORMULATEXT(J43) -> =MMULT(J19:O24,MMULT(J35:M40,TRANSPOSE(J28:M31))) | Q49: =_xlfn.FORMULATEXT(Q43) -> =MMULT(Q19:V24,MMULT(Q35:T40,TRANSPOSE(Q28:T31)))

Sheet PCA Score
B1: ='EVD & SVD'!B1 -> Centred Xc | G1: U of XC
B2: ='EVD & SVD'!B2 -> 2 | C2: ='EVD & SVD'!C2 -> 1 | D2: ='EVD & SVD'!D2 -> -1.3333333 | E2: ='EVD & SVD'!E2 -> -2.1666667 | G2: {=[1]!SVD_U(B2:E7)} -> 0.50879514 | H2: 0.350645 | I2: 0.52839742 | J2: 0.40261768 | K2: 0.40824829 | L2: 0.10101525
B3: ='EVD & SVD'!B3 -> 1 | C3: ='EVD & SVD'!C3 -> 2 | D3: ='EVD & SVD'!D3 -> -1.3333333 | E3: ='EVD & SVD'!E3 -> -1.1666667 | G3: 0.41747801 | H3: -0.47903157 | I3: -0.24395061 | J3: -0.05210914 | K3: 0.40824829 | L3: -0.60609153
B4: ='EVD & SVD'!B4 -> -2 | C4: ='EVD & SVD'!C4 -> -1 | D4: ='EVD & SVD'!D4 -> 0.66666667 | E4: ='EVD & SVD'!E4 -> 1.8333333 | G4: -0.43906538 | H4: -0.41729701 | I4: -0.12944981 | J4: 0.59818404 | K4: 0.40824829 | L4: 0.30304576
B5: ='EVD & SVD'!B5 -> -1 | C5: ='EVD & SVD'!C5 -> -2 | D5: ='EVD & SVD'!D5 -> 1.6666667 | E5: ='EVD & SVD'!E5 -> 0.83333333 | G5: -0.40813707 | H5: 0.64831302 | I5: -0.28794329 | J5: 0.016463721 | K5: 0.40824829 | L5: -0.40406102
B6: ='EVD & SVD'!B6 -> 1 | C6: ='EVD & SVD'!C6 -> 1 | D6: ='EVD & SVD'!D6 -> -0.33333333 | E6: ='EVD & SVD'!E6 -> -1.1666667 | G6: 0.28012013 | H6: 0.10338478 | I6: -0.45925413 | J6: -0.40732829 | K6: 0.40824829 | L6: 0.60609153
B7: ='EVD & SVD'!B7 -> -1 | C7: ='EVD & SVD'!C7 -> -1 | D7: ='EVD & SVD'!D7 -> 0.66666667 | E7: ='EVD & SVD'!E7 -> 1.8333333 | G7: -0.35919084 | H7: -0.20601423 | I7: 0.59220041 | J7: -0.55782802 | K7: 0.40824829 | L7: 0
G8: =_xlfn.FORMULATEXT(G2) -> =SVD_U(B2:E7)
B10: Covariance C | G10: S of XC | L10: V of XC
B11: {=1/5*MMULT(TRANSPOSE(B2:E7),B2:E7)} -> 2.4 | C11: 2 | D11: -1.6 | E11: -2.6 | G11: {=[1]!SVD_D(B2:E7)} -> 6.4864528 | H11: 0 | I11: 0 | J11: 0 | L11: {=[1]!SVD_V(B2:E7)} -> 0.51810245 | M11: 0.38947147 | N11: 0.47163135 | O11: -0.59786763
B12: 2 | C12: 2.4 | D12: -1.8 | E12: -2.2 | G12: 0 | H12: 1.8433659 | I12: 0 | J12: 0 | L12: 0.49925618 | M12: -0.63869476 | N12: -0.46763673 | O12: -0.35231827
B13: -1.6 | C13: -1.8 | D13: 1.4666667 | E13: 1.7333333 | G13: 0 | H13: 0 | I13: 0.65354564 | J13: 0 | L13: -0.39170924 | M13: 0.43491168 | N13: -0.60834741 | O13: -0.53603091
B14: -2.6 | C14: -2.2 | D14: 1.7333333 | E14: 2.9666667 | G14: 0 | H14: 0 | I14: 0 | J14: 0.51718113 | L14: -0.57347799 | M14: -0.50123128 | N14: 0.43450339 | O14: -0.4807255
B15: =_xlfn.FORMULATEXT(B11) -> =1/5*MMULT(TRANSPOSE(B2:E7),B2:E7) | G15: 0 | H15: 0 | I15: 0 | J15: 0 | L15: =_xlfn.FORMULATEXT(L11) -> =SVD_V(B2:E7)
G16: 0 | H16: 0 | I16: 0 | J16: 0
B17: Eigenvalues and Eigenvectors of C | G17: =_xlfn.FORMULATEXT(G11) -> =SVD_D(B2:E7)
A18: L | B18: {=[1]!eigVECTSym(B11:E14)} -> 8.4148141 | C18: 0.67959958 | D18: 0.08542438 | E18: 0.053495265
A19: V | B19: -0.51810245 | C19: -0.38947147 | D19: -0.47163135 | E19: -0.59786763
B20: -0.49925618 | C20: 0.63869476 | D20: 0.46763673 | E20: -0.35231827
B21: 0.39170924 | C21: -0.43491168 | D21: 0.60834741 | E21: -0.53603091
B22: 0.57347799 | C22: 0.50123128 | D22: -0.43450339 | E22: -0.4807255
B23: -1.9669987e-12 | C23: -4.602437e-16 | D23: -5.0720989e-18 | E23: 1.0167183e-16
B24: 6.6613381e-15 | C24: 4.4408921e-16 | D24: 4.4408921e-16 | E24: 1.3322676e-15
B25: =_xlfn.FORMULATEXT(B18) -> =eigVECTSym(B11:E14)
B27: Score matrix XC´V from EVD | F27: = | G27: Score matrix U´S from SVD | L27: The score matrix is identical, but with opposite signs.
B28: {=MMULT(B2:E7,B19:E22)} -> -3.3002757 | C28: -0.64636705 | D28: -0.34533183 | E28: 0.20822627 | G28: {=MMULT(G2:L7,G11:J16)} -> 3.3002757 | H28: 0.64636705 | I28: 0.34533183 | J28: 0.20822627 | L28: However, V matrices also have the opposite signs, so this is OK.
B29: -2.7079514 | C29: 0.88303047 | D29: 0.15943285 | E29: -0.026949864 | G29: 2.7079514 | H29: -0.88303047 | I29: -0.15943285 | J29: -0.026949864
B30: 2.8479769 | C30: 0.76923108 | D30: 0.084601358 | E30: 0.3093695 | G30: -2.8479769 | H30: -0.76923108 | I30: -0.084601358 | J30: 0.3093695 | L30: The signs are arbitrary and not uniquely defined, which is perfectly OK,
B31: 2.6473618 | C31: -1.1950781 | D31: 0.18818408 | E31: 0.0085147261 | G31: -2.6473618 | H31: 1.1950781 | I31: -0.18818408 | J31: 0.0085147261 | L31: because the direction of a principal component is meaningless.
B32: -1.816986 | C32: -0.19057598 | D32: 0.30014353 | E32: -0.21066251 | G32: 1.816986 | H32: 0.19057598 | I32: -0.30014353 | J32: -0.21066251 | L32: What matters is the relative position of the data points along that axis.
B33: 2.3298744 | C33: 0.37975961 | D33: -0.38702999 | E33: -0.28849813 | G33: -2.3298744 | H33: -0.37975961 | I33: 0.38702999 | J33: -0.28849813
B34: =_xlfn.FORMULATEXT(B28) -> =MMULT(B2:E7,B19:E22) | G34: =_xlfn.FORMULATEXT(G28) -> =MMULT(G2:L7,G11:J16)
